BEGIN:VCALENDAR
VERSION:2.0
PRODID:-//VetAgro Sup - ECPv6.15.20//NONSGML v1.0//EN
CALSCALE:GREGORIAN
METHOD:PUBLISH
X-ORIGINAL-URL:https://www.vetagro-sup.fr
X-WR-CALDESC:Évènements pour VetAgro Sup
REFRESH-INTERVAL;VALUE=DURATION:PT1H
X-Robots-Tag:noindex
X-PUBLISHED-TTL:PT1H
BEGIN:VTIMEZONE
TZID:Europe/Paris
BEGIN:DAYLIGHT
TZOFFSETFROM:+0100
TZOFFSETTO:+0200
TZNAME:CEST
DTSTART:20230326T010000
END:DAYLIGHT
BEGIN:STANDARD
TZOFFSETFROM:+0200
TZOFFSETTO:+0100
TZNAME:CET
DTSTART:20231029T010000
END:STANDARD
BEGIN:DAYLIGHT
TZOFFSETFROM:+0100
TZOFFSETTO:+0200
TZNAME:CEST
DTSTART:20240331T010000
END:DAYLIGHT
BEGIN:STANDARD
TZOFFSETFROM:+0200
TZOFFSETTO:+0100
TZNAME:CET
DTSTART:20241027T010000
END:STANDARD
BEGIN:DAYLIGHT
TZOFFSETFROM:+0100
TZOFFSETTO:+0200
TZNAME:CEST
DTSTART:20250330T010000
END:DAYLIGHT
BEGIN:STANDARD
TZOFFSETFROM:+0200
TZOFFSETTO:+0100
TZNAME:CET
DTSTART:20251026T010000
END:STANDARD
END:VTIMEZONE
BEGIN:VEVENT
DTSTART;VALUE=DATE:20240513
DTEND;VALUE=DATE:20240518
DTSTAMP:20260420T010347
CREATED:20240426T121923Z
LAST-MODIFIED:20240619T152014Z
UID:54466-1715558400-1715990399@www.vetagro-sup.fr
SUMMARY:Webinaire franco-argentin du projet TANGOS - Transformation des agrosystèmes\, biodiversité et sécurité alimentaire
DESCRIPTION:Le webinaire du projet franco-argentin TANGOS – Transformation des agrosystèmes\, biodiversité et sécurité alimentaire – créé dans le cadre du programme ARFAGRI\, se déroulera du 13 au 17 mai 2024. \nProgramme détaillé : disponible ici. \nReplays des présentations : disponibles ici.
URL:https://www.vetagro-sup.fr/evenement/webinaire-franco-argentin-du-projet-tangos-transformation-des-agrosystemes-biodiversite-et-securite-alimentaire/
ATTACH;FMTTYPE=image/jpeg:https://www.vetagro-sup.fr/wp-content/uploads/2024/04/Flyer-Webinaire-francais.jpeg
END:VEVENT
BEGIN:VEVENT
DTSTART;TZID=Europe/Paris:20240517T130000
DTEND;TZID=Europe/Paris:20240517T170000
DTSTAMP:20260420T010347
CREATED:20240403T140208Z
LAST-MODIFIED:20240403T140208Z
UID:54304-1715950800-1715965200@www.vetagro-sup.fr
SUMMARY:Alternance Day : Agri - Agro
DESCRIPTION:« Alternance Day : Agri-Agro » est un évènement unique à destination des jeunes et des entreprises dans le but de favoriser les études supérieures en alternance\, dans les domaines de l’agriculture\, de l’agroalimentaire et de l’environnement. Conçue en partenariat avec VetAgro Sup\, l’APECITA et Ocapiat\, cette journée vise à rassembler les jeunes désireux de suivre une formation supérieure (bac +2 à bac+5) en alternance et les recruteurs\, pour faciliter la prise de contact. Fruit d’une collaboration entre établissement d’enseignement supérieur et de recherche\, organisme d’insertion à l’emploi et opérateur de compétences\, l’ambition « Alternance Day : Agri-Agro » est de tisser des relations durables avec le monde socio-économique\, d’émerger sur un réseau de professionnels de référence et de devenir un outil d’aide à la recherche d’alternance. \nEn savoir + : https://www.apecita.com/actualites/evenements/alternance-day-agri-agro
URL:https://www.vetagro-sup.fr/evenement/alternance-day-agri-agro-2/
LOCATION:VetAgro Sup – campus agronomique\, 89 avenue de l'Europe\, Lempdes\, 63370\, France
CATEGORIES:Salon
ATTACH;FMTTYPE=image/png:https://www.vetagro-sup.fr/wp-content/uploads/2024/04/Alternance-Day-2024.png
END:VEVENT
BEGIN:VEVENT
DTSTART;VALUE=DATE:20240524
DTEND;VALUE=DATE:20240525
DTSTAMP:20260420T010347
CREATED:20240613T130021Z
LAST-MODIFIED:20240613T130021Z
UID:54923-1716508800-1716595199@www.vetagro-sup.fr
SUMMARY:Soutenance de thèses - Mai 2024 - Doctorat vétérinaire
DESCRIPTION:Victor RAVENEL \nTitre de la thèse : CONTRIBUTION A L’ETUDE DES EFFETS DES CHAMPS ELECTROMAGNETIQUES EXTREMEMENT BASSE FREQUENCE SUR LA QUALITE DU LAIT DES BOVINS \n24/05/2024 à 16h30 – salle Chauveau de VetAgro Sup
URL:https://www.vetagro-sup.fr/evenement/soutenance-de-theses-mai-2024-doctorat-veterinaire/
LOCATION:VetAgro Sup – campus vétérinaire\, 1 avenue Bourgelat\, Marcy l'Etoile\, 69280
ATTACH;FMTTYPE=image/jpeg:https://www.vetagro-sup.fr/wp-content/uploads/2022/07/soutenance_these-scaled.jpg
END:VEVENT
BEGIN:VEVENT
DTSTART;TZID=Europe/Paris:20240525T140000
DTEND;TZID=Europe/Paris:20240526T180000
DTSTAMP:20260420T010347
CREATED:20240403T142100Z
LAST-MODIFIED:20240403T142100Z
UID:54309-1716645600-1716746400@www.vetagro-sup.fr
SUMMARY:Journées Portes Ouvertes du Centre INRAE Clermont-Auvergne-Rhône-Alpes
DESCRIPTION:Les 25 et 26 mai prochains\, VetAgro Sup sera présent aux journées portes ouvertes du Centre INRAE Clermont-Auvergne-Rhône-Alpes de Theix. A cette occasion\, un stand d’information sur la formation d’ingénieur agronome permettra de faire le lien avec les métiers dans la recherche.
URL:https://www.vetagro-sup.fr/evenement/journees-portes-ouvertes-du-centre-inrae-clermont-auvergne-rhone-alpes/
LOCATION:INRAE Theix\, route de Theix\, Saint-Genès-Champanelle\, 63122
CATEGORIES:Salon
ATTACH;FMTTYPE=image/png:https://www.vetagro-sup.fr/wp-content/uploads/2024/04/1_JPO2024_logo_princ_coul_HORIZ_25-26-mai.png
END:VEVENT
BEGIN:VEVENT
DTSTART;TZID=Europe/Paris:20240530T093000
DTEND;TZID=Europe/Paris:20240530T170000
DTSTAMP:20260420T010347
CREATED:20240315T074020Z
LAST-MODIFIED:20240315T075421Z
UID:54147-1717061400-1717088400@www.vetagro-sup.fr
SUMMARY:Journée de présentation du pôle EVAAS - Expertise vétérinaire et agronomique animaux sauvages
DESCRIPTION:Programme : \n\nDe 9h30 à 13h00 : une présentation du pôle\, de ses membres et de son fonctionnement\, ainsi que des projets en cours pour l’expertise pluridisciplinaire\, l’appui à la recherche et la participation à la formation.\nDe 14h00 à 17h00 : une sortie terrain pour découvrir les problématiques et enjeux autour du campagnol terrestre (déplacement pris en charge et nombre limité de places disponibles).\n\nCette journée aura lieu sur le campus agronomique de VetAgro Sup\, à Lempdes. \nLes présentations seront également retransmises en intégralité par visio-conférence. \nInscription (obligatoire) jusqu’au 21 avril 2024\, ici. \nPour toute question ou demande de renseignement\, n’hésitez pas à contacter evaas@vetagro-sup.fr.
URL:https://www.vetagro-sup.fr/evenement/journee-de-presentation-du-pole-evaas-expertise-veterinaire-et-agronomique-animaux-sauvages/
LOCATION:VetAgro Sup – campus agronomique\, 89 avenue de l'Europe\, Lempdes\, 63370\, France
CATEGORIES:Animation
ATTACH;FMTTYPE=image/png:https://www.vetagro-sup.fr/wp-content/uploads/2024/03/image-pole-EVAAS.png
END:VEVENT
END:VCALENDAR