BEGIN:VCALENDAR
VERSION:2.0
PRODID:-//VetAgro Sup - ECPv6.15.20//NONSGML v1.0//EN
CALSCALE:GREGORIAN
METHOD:PUBLISH
X-ORIGINAL-URL:https://www.vetagro-sup.fr
X-WR-CALDESC:Évènements pour VetAgro Sup
REFRESH-INTERVAL;VALUE=DURATION:PT1H
X-Robots-Tag:noindex
X-PUBLISHED-TTL:PT1H
BEGIN:VTIMEZONE
TZID:Europe/Paris
BEGIN:DAYLIGHT
TZOFFSETFROM:+0100
TZOFFSETTO:+0200
TZNAME:CEST
DTSTART:20220327T010000
END:DAYLIGHT
BEGIN:STANDARD
TZOFFSETFROM:+0200
TZOFFSETTO:+0100
TZNAME:CET
DTSTART:20221030T010000
END:STANDARD
BEGIN:DAYLIGHT
TZOFFSETFROM:+0100
TZOFFSETTO:+0200
TZNAME:CEST
DTSTART:20230326T010000
END:DAYLIGHT
BEGIN:STANDARD
TZOFFSETFROM:+0200
TZOFFSETTO:+0100
TZNAME:CET
DTSTART:20231029T010000
END:STANDARD
BEGIN:DAYLIGHT
TZOFFSETFROM:+0100
TZOFFSETTO:+0200
TZNAME:CEST
DTSTART:20240331T010000
END:DAYLIGHT
BEGIN:STANDARD
TZOFFSETFROM:+0200
TZOFFSETTO:+0100
TZNAME:CET
DTSTART:20241027T010000
END:STANDARD
END:VTIMEZONE
BEGIN:VEVENT
DTSTART;TZID=Europe/Paris:20230629T080000
DTEND;TZID=Europe/Paris:20230701T170000
DTSTAMP:20260420T172517
CREATED:20200930T090357Z
LAST-MODIFIED:20240830T062500Z
UID:35299-1688025600-1688230800@www.vetagro-sup.fr
SUMMARY:ISWAVLD 2023 - International Symposium of the World Association of Veterinary Laboratory Diagnosticians
DESCRIPTION:https://youtu.be/gLfE_alDa-E \nVetAgro Sup porte la prochaine édition du symposium international ISWAVLD 2023 (International Symposium of the World Association of Veterinary Laboratory Diagnosticians) en collaboration avec l’ADILVA\, l’Anses – Agence nationale de sécurité sanitaire\, l’École nationale vétérinaire d’Alfort – EnvA\, l’Ecole Nationale Vétérinaire de Toulouse et ONLY LYON. \nCliniciens\, personnels de laboratoires vétérinaires\, chercheurs\, scientifiques\, étudiants ou industriels du diagnostic vétérinaire… Venez découvrir des thématiques scientifiques variées et d’actualité et des conférenciers nationaux et internationaux de renom. \nPour cette prochaine édition lyonnaise\, nous vous proposons un pré-programme scientifique avec des thématiques variées et d’actualité et avec des conférenciers nationaux et internationaux de renom. \n>>> Voir le programme \n>>> Voir les intervenants \nAu Centre des Congrès\, Cité Internationale de Lyon\, du 29 juin au 1e juillet 2023 \nQu’est-ce-que l’ISWAVLD ? \nL’ISWAVLD est le rendez-vous biannuel et incontournable de tous les biologistes\, vétérinaires et autres scientifiques plus ou moins impliqués dans le diagnostic de laboratoire. Le diagnostic vétérinaire sera privilégié lors de ce colloque afin d’aborder tous les aspects du diagnostic de laboratoire dans tous les domaines où les vétérinaires sont présents (santé animale\, sécurité alimentaire\, santé environnementale\, etc.) pour découvrir et partager de nouvelles méthodes de diagnostic et des informations sur l’épidémiologie des maladies animales. \nEn plus de la présentation des dernières innovations autour du diagnostic dans tous les domaines de la santé animale et environnementale\, l’ISWAVLD 2023 mettra également l’accent sur la convergence de deux médecines\, humaine et vétérinaire\, selon le concept « une seule santé »\, et les thèmes abordés concerneront les maladies infectieuses\, l’antibiorésistance\, la toxicologie et la sécurité sanitaire des aliments.  \nA l’heure où une approche « One Health » est indispensable\, renforcée par les récentes crises sanitaires\, nous partagerons nos expériences respectives en santé animale et humaine pour une meilleure préparation aux crises futures basée sur la coopération entre secteurs pour aller « vers le diagnostic [vétérinaire] du futur ». \nENGLISH  \nVetAgro Sup is carrying the next edition of the ISWALD 2023 international symposium (International Symposium of the World Association of Veterinary Laboratory Diagnosticians) in collaboration with ADILVA\, ANSES – National Health Security Agency\, National Veterinary School of Alfort – EnvA \, the National Veterinary School of Toulouse and ONLY LYON. \nClinicians\, staff of veterinary laboratories\, researchers\, scientists\, students or industrialists of veterinary diagnostics… Come and discover varied and topical scientific themes and renowned national and international speakers! \nFor this next edition in Lyon\, we are offering a scientific pre-program with varied and topical themes and with renowned national and international speakers \n>>> See the program \n>>> See speakers \nCongress Center\, Cité Internationale from June 29 to July 1st\, 2023 \nWhat is ISWAVLD ?  \nThe ISWAVLD is the biannual and essential meeting for all biologists\, veterinarians and other scientists who are more or less involved in the laboratory diagnosis. Veterinary diagnostics will be privileged during this symposium in order to address all aspects of laboratory diagnostic in all areas where veterinarians are present (animal health\, food safety\, environmental health\, etc.) to discover and share new diagnostic methods and information on the epidemiology of animal diseases. \nIn addition to presenting the latest innovations around diagnostics in all areas of animal and environmental health\, ISWAVLD 2023 will also focus on the convergence of two medicines\, human and veterinary\, according to the « one health » concept and the topics covered will concern infectious diseases\, antibiotic resistance\, toxicology and food safety. \nAt a time when “One Health” is essential for all\, reinforced by the recent health crises\, we will share our respective experiences in animal and human health for a better preparedness for future crises based on cooperation between sectors to move “towards the [veterinary] diagnosis of the future”. \n			\n						ISWAVLD website\n					\n			\n						Inscription / Registration\n					\n			\n						Soumission des abstracts / Submit your abstract\n					 \nContact VetAgro Sup : Zorée Djelouadji\, Professeur en Microbiologie Médicale\, Présidente du comité locale d’orgnisation et membre du comité scientifique de l’ISWAVLD 2023 
URL:https://www.vetagro-sup.fr/evenement/iswavld-2023-international-symposium-of-the-world-association-of-veterinary-laboratory-diagnosticians/
LOCATION:Centre de Congrès de Lyon\, 50 Quai Charles de Gaulle\, Lyon\, Rhône\, 69006\, France
CATEGORIES:Conference
ATTACH;FMTTYPE=image/png:https://www.vetagro-sup.fr/wp-content/uploads/2020/09/Visuel2.png
END:VEVENT
BEGIN:VEVENT
DTSTART;TZID=Europe/Paris:20230701T080000
DTEND;TZID=Europe/Paris:20230731T170000
DTSTAMP:20260420T172517
CREATED:20230710T083445Z
LAST-MODIFIED:20230710T103653Z
UID:51781-1688198400-1690822800@www.vetagro-sup.fr
SUMMARY:Soutenances de thèses - Juillet
DESCRIPTION:TRINDER Justine \nTITRE DE LA THESE :\nÉtude in vitro des résistances des strongles digestifs des caprins aux antiparasitaires en Auvergne Rhône-Alpes \n6 juillet 2023 – 16h – Salle Chauveau \n  \nPOUPON Marine \nTITRE DE LA THESE :\nÉtude rétrospective sur l’intérêt de la vitamine K1 injectable dans le traitement des chiens et des chats pris en charge pour intoxication aux rodenticides anticoagulants \n6 juillet 2023 – 17h – Salle Chauveau
URL:https://www.vetagro-sup.fr/evenement/soutenances-de-theses-juillet/
LOCATION:VetAgro Sup Salle Chauveau
CATEGORIES:Conference
ATTACH;FMTTYPE=image/jpeg:https://www.vetagro-sup.fr/wp-content/uploads/2022/07/soutenance_these-scaled.jpg
END:VEVENT
BEGIN:VEVENT
DTSTART;TZID=Europe/Paris:20230705T080000
DTEND;TZID=Europe/Paris:20230707T170000
DTSTAMP:20260420T172517
CREATED:20230630T081342Z
LAST-MODIFIED:20230630T082033Z
UID:51606-1688544000-1688749200@www.vetagro-sup.fr
SUMMARY:Une santé durable pour tous 2023 - Forum OSH
DESCRIPTION:Le Forum One Sustainable Health for all a été lancé en juillet 2021 à Lyon. Il réunit plus d’une cinquantaine d’organisations professionnelles et de la société civile travaillant à travers le monde sur une approche holistique de la santé\, qui prend en compte la santé humaine\, animale et environnementale. \nAu cours des deux dernières années\, le forum a réuni un réseau interdisciplinaire d’experts qui collaborent au sein de six groupes de travail permanents. Le forum a également organisé une série de conférences et de séminaires en ligne\, qui ont permis de relier l’agenda environnemental et social dans le cadre d’une approche holistique de la santé. \nSon principal objectif est de contribuer à une approche opérationnelle alignée sur les principes d’une santé durable pour tous. Cette approche intégrera les politiques publiques\, les budgets\, les projets et les programmes mis en œuvre par les organisations publiques\, non gouvernementales et privées. \nL’approche « Une seule santé durable pour tous  » est née des enseignements tirés de la récente crise du Covid-19. La crise du Covid-19 a été un avant-goût de ce que l’on a appelé une « polycrise »\, une série de défis qui se chevauchent\, car la santé humaine est de plus en plus menacée par les changements profonds de nos écosystèmes\, dus au changement climatique\, à la perte de biodiversité\, aux pollutions\, à la résistance microbienne et à d’autres menaces environnementales. La crise du Covid-19 a mis en évidence les défis liés aux systèmes de santé interconnectés\, qui relient la santé\, l’alimentation\, l’eau\, l’énergie et les écosystèmes. \nIl appelle à réévaluer notre approche des systèmes de santé en allant au-delà du programme de couverture sanitaire universelle pour adopter une approche holistique qui allie durabilité et équité\, nous poussant à repenser nos investissements dans les systèmes de santé et notre approche de la prestation de services et du financement de la santé. \nLe Dr. Amandine GAUTIER\, ENSV/VetAgroSup est membre du conseil scientifique OSH et co-Chair du groupe de travail #3 « Mieux gérer la relation de l’homme avec la nature et le monde sauvage pour une santé durable ».\nAvec OSH et Science Po Lyon\, VetAgro Sup organise également le Forum Next Generation le mercredi 5 juillet.\n			\n						Voir le programme
URL:https://www.vetagro-sup.fr/evenement/une-sante-durable-pour-tous-2023-forum-osh/
LOCATION:Musée des Confluences\, 86 Quai Perrache\, Lyon\, 69002\, France
ATTACH;FMTTYPE=image/png:https://www.vetagro-sup.fr/wp-content/uploads/2023/06/Visuel_forum_osh.png
END:VEVENT
END:VCALENDAR