BEGIN:VCALENDAR
VERSION:2.0
PRODID:-//VetAgro Sup - ECPv6.15.20//NONSGML v1.0//EN
CALSCALE:GREGORIAN
METHOD:PUBLISH
X-ORIGINAL-URL:https://www.vetagro-sup.fr
X-WR-CALDESC:Évènements pour VetAgro Sup
REFRESH-INTERVAL;VALUE=DURATION:PT1H
X-Robots-Tag:noindex
X-PUBLISHED-TTL:PT1H
BEGIN:VTIMEZONE
TZID:Europe/Paris
BEGIN:DAYLIGHT
TZOFFSETFROM:+0100
TZOFFSETTO:+0200
TZNAME:CEST
DTSTART:20220327T010000
END:DAYLIGHT
BEGIN:STANDARD
TZOFFSETFROM:+0200
TZOFFSETTO:+0100
TZNAME:CET
DTSTART:20221030T010000
END:STANDARD
BEGIN:DAYLIGHT
TZOFFSETFROM:+0100
TZOFFSETTO:+0200
TZNAME:CEST
DTSTART:20230326T010000
END:DAYLIGHT
BEGIN:STANDARD
TZOFFSETFROM:+0200
TZOFFSETTO:+0100
TZNAME:CET
DTSTART:20231029T010000
END:STANDARD
BEGIN:DAYLIGHT
TZOFFSETFROM:+0100
TZOFFSETTO:+0200
TZNAME:CEST
DTSTART:20240331T010000
END:DAYLIGHT
BEGIN:STANDARD
TZOFFSETFROM:+0200
TZOFFSETTO:+0100
TZNAME:CET
DTSTART:20241027T010000
END:STANDARD
END:VTIMEZONE
BEGIN:VEVENT
DTSTART;TZID=Europe/Paris:20230602T133000
DTEND;TZID=Europe/Paris:20230602T170000
DTSTAMP:20260420T185554
CREATED:20230531T114537Z
LAST-MODIFIED:20230531T115332Z
UID:51318-1685712600-1685725200@www.vetagro-sup.fr
SUMMARY:Conférence EP Perception et Enjeux Sociétaux des Produits Animaux / INRAE
DESCRIPTION:Conférence ouverte aux publics\, proposée dans le cadre de l’EP PESPA (Enseignement personnalisé « Perception et Enjeux Sociétaux des Produits Animaux »).  \nIntervenants\n\nPierre Sylvain Mirade\, Directeur de recherche à l’INRAE\nMaïa Meurillon\, Chargé de Recherche à l’INRAE\n\nAu programme\n\n13h30/15h : Qualités sanitaires de la viande\n15h/17h : Affinage de fromages vu par un physicien\n\n\nJe m’inscris\n \nLieu\nAmphi 3\, campus vétérinaire de VetAgro Sup
URL:https://www.vetagro-sup.fr/evenement/conference-ep-perception-et-enjeux-societaux-des-produits-animaux-inrae/
LOCATION:VetAgro Sup – campus vétérinaire\, 1 avenue Bourgelat\, Marcy l'Etoile\, 69280
ATTACH;FMTTYPE=image/jpeg:https://www.vetagro-sup.fr/wp-content/uploads/2022/03/vaches-Salers-estive_Sancy_ABelleil-5-scaled.jpg
END:VEVENT
BEGIN:VEVENT
DTSTART;TZID=Europe/Paris:20230603T140000
DTEND;TZID=Europe/Paris:20230603T170000
DTSTAMP:20260420T185554
CREATED:20230530T142413Z
LAST-MODIFIED:20230530T142456Z
UID:51297-1685800800-1685811600@www.vetagro-sup.fr
SUMMARY:Projection du documentaire « Croquantes »
DESCRIPTION:Ciné-débat à 14 heures au Cinéma Le Rio (178\, rue Sous les Vignes à Clermont-Ferrand)\, en partenariat avec les étudiant·e·s de VetAgro Sup. \n« Au travers de ce ciné-débat\, venez découvrir les expériences de femmes évoluant dans le milieu de l’agriculture. Comment leur regard féminin peut-il faire évoluer la profession ? » \nÉchange animé par Sophie Chatenet\, journaliste à la presse agricole du Massif Central (PAMAC)\, en présence de Sabine Tholoniat\, Michèle Boudoin et Delphine Freysinier\, éleveuses. \nUn film réalisé par Tesslye Lopez et Isabelle Mandin. \nSynopsis : Lors des réunions mensuelles avec Emilie\, l’animatrice du Groupe Femmes\, les agricultrices se découvrent. Elles apprennent de leurs différences\, se forment et débattent. Elles puisent de la force dans leurs expériences communes. Ensemble\, elles vont explorer de nouveaux champs des possibles\, oser dire et questionner un modèle agricole qui peine à leur laisser une place qui leur convient. Ces croquantes des temps modernes vont joyeusement se saisir de leurs histoires pour créer de nouvelles solidarités et ouvrir les imaginaires. \nTarifs habituels du cinéma et 4€ pour les étudiant·es.
URL:https://www.vetagro-sup.fr/evenement/projection-du-documentaire-croquantes/
LOCATION:Cinéma Le Rio\, 178\, rue Sous les Vignes\, Clermont-Ferrand
ATTACH;FMTTYPE=image/jpeg:https://www.vetagro-sup.fr/wp-content/uploads/2023/05/2023_06_03_croquantes.jpg
END:VEVENT
BEGIN:VEVENT
DTSTART;TZID=Europe/Paris:20230620T134500
DTEND;TZID=Europe/Paris:20230620T170000
DTSTAMP:20260420T185554
CREATED:20230531T063648Z
LAST-MODIFIED:20230531T064454Z
UID:51308-1687268700-1687280400@www.vetagro-sup.fr
SUMMARY:Conférence "L'approche systémique au service de l'agriculture et des paysages : quelles recherches ? quelles pédagogies ? quelles perspectives ?"
DESCRIPTION:Alors que l’activité agricole est l’objet de critiques et que nos sociétés oscillent entre idéaliser la nature sauvage pour la protéger des humains et  humaniser les animaux jusqu’à rejeter l’idée même d’élevage\, nous avons demandé à Yves Michelin\, professeur émérite de VetAgro Sup\, de partager ses réflexions sur ses travaux de recherche et ses approches pédagogiques traitant des relations entre agriculture\, environnement\, paysage\, en prenant appui sur sa carrière riche d’expériences variées afin de les mettre en discussion en lien avec les réflexions en cours tant dans l’école que dans les unités de recherche et sur le terrain.   \nPROGRAMME :\n13h45 -14h00 : Accueil des participants \n14h00-14h15 : Introduction de la conférence par Etienne Paux\, directeur général adjoint de VetAgro Sup \n14h15-16h00 (1h45) : Conférence d’Yves Michelin\, Professeur émérite de VetAgro Sup en 3 temps  avec discussion \n16h00 à 17h00 : Buffet \nLa conférence se déroulera en présentiel. Toutefois\, une connexion teams sera proposée aux personnes localisées hors de la métropole clermontoise.\n\nInscription avant le 14 juin 2023
URL:https://www.vetagro-sup.fr/evenement/conference-lapproche-systemique-au-service-de-lagriculture-et-des-paysages-quelles-recherches-quelles-pedagogies-quelles-perspectives/
LOCATION:VetAgro Sup – campus agronomique\, 89 avenue de l'Europe\, Lempdes\, 63370\, France
CATEGORIES:Conference
ATTACH;FMTTYPE=image/jpeg:https://www.vetagro-sup.fr/wp-content/uploads/2023/05/RandoChambon_1-scaled.jpg
END:VEVENT
BEGIN:VEVENT
DTSTART;TZID=Europe/Paris:20230629T080000
DTEND;TZID=Europe/Paris:20230701T170000
DTSTAMP:20260420T185554
CREATED:20200930T090357Z
LAST-MODIFIED:20240830T062500Z
UID:35299-1688025600-1688230800@www.vetagro-sup.fr
SUMMARY:ISWAVLD 2023 - International Symposium of the World Association of Veterinary Laboratory Diagnosticians
DESCRIPTION:https://youtu.be/gLfE_alDa-E \nVetAgro Sup porte la prochaine édition du symposium international ISWAVLD 2023 (International Symposium of the World Association of Veterinary Laboratory Diagnosticians) en collaboration avec l’ADILVA\, l’Anses – Agence nationale de sécurité sanitaire\, l’École nationale vétérinaire d’Alfort – EnvA\, l’Ecole Nationale Vétérinaire de Toulouse et ONLY LYON. \nCliniciens\, personnels de laboratoires vétérinaires\, chercheurs\, scientifiques\, étudiants ou industriels du diagnostic vétérinaire… Venez découvrir des thématiques scientifiques variées et d’actualité et des conférenciers nationaux et internationaux de renom. \nPour cette prochaine édition lyonnaise\, nous vous proposons un pré-programme scientifique avec des thématiques variées et d’actualité et avec des conférenciers nationaux et internationaux de renom. \n>>> Voir le programme \n>>> Voir les intervenants \nAu Centre des Congrès\, Cité Internationale de Lyon\, du 29 juin au 1e juillet 2023 \nQu’est-ce-que l’ISWAVLD ? \nL’ISWAVLD est le rendez-vous biannuel et incontournable de tous les biologistes\, vétérinaires et autres scientifiques plus ou moins impliqués dans le diagnostic de laboratoire. Le diagnostic vétérinaire sera privilégié lors de ce colloque afin d’aborder tous les aspects du diagnostic de laboratoire dans tous les domaines où les vétérinaires sont présents (santé animale\, sécurité alimentaire\, santé environnementale\, etc.) pour découvrir et partager de nouvelles méthodes de diagnostic et des informations sur l’épidémiologie des maladies animales. \nEn plus de la présentation des dernières innovations autour du diagnostic dans tous les domaines de la santé animale et environnementale\, l’ISWAVLD 2023 mettra également l’accent sur la convergence de deux médecines\, humaine et vétérinaire\, selon le concept « une seule santé »\, et les thèmes abordés concerneront les maladies infectieuses\, l’antibiorésistance\, la toxicologie et la sécurité sanitaire des aliments.  \nA l’heure où une approche « One Health » est indispensable\, renforcée par les récentes crises sanitaires\, nous partagerons nos expériences respectives en santé animale et humaine pour une meilleure préparation aux crises futures basée sur la coopération entre secteurs pour aller « vers le diagnostic [vétérinaire] du futur ». \nENGLISH  \nVetAgro Sup is carrying the next edition of the ISWALD 2023 international symposium (International Symposium of the World Association of Veterinary Laboratory Diagnosticians) in collaboration with ADILVA\, ANSES – National Health Security Agency\, National Veterinary School of Alfort – EnvA \, the National Veterinary School of Toulouse and ONLY LYON. \nClinicians\, staff of veterinary laboratories\, researchers\, scientists\, students or industrialists of veterinary diagnostics… Come and discover varied and topical scientific themes and renowned national and international speakers! \nFor this next edition in Lyon\, we are offering a scientific pre-program with varied and topical themes and with renowned national and international speakers \n>>> See the program \n>>> See speakers \nCongress Center\, Cité Internationale from June 29 to July 1st\, 2023 \nWhat is ISWAVLD ?  \nThe ISWAVLD is the biannual and essential meeting for all biologists\, veterinarians and other scientists who are more or less involved in the laboratory diagnosis. Veterinary diagnostics will be privileged during this symposium in order to address all aspects of laboratory diagnostic in all areas where veterinarians are present (animal health\, food safety\, environmental health\, etc.) to discover and share new diagnostic methods and information on the epidemiology of animal diseases. \nIn addition to presenting the latest innovations around diagnostics in all areas of animal and environmental health\, ISWAVLD 2023 will also focus on the convergence of two medicines\, human and veterinary\, according to the « one health » concept and the topics covered will concern infectious diseases\, antibiotic resistance\, toxicology and food safety. \nAt a time when “One Health” is essential for all\, reinforced by the recent health crises\, we will share our respective experiences in animal and human health for a better preparedness for future crises based on cooperation between sectors to move “towards the [veterinary] diagnosis of the future”. \n			\n						ISWAVLD website\n					\n			\n						Inscription / Registration\n					\n			\n						Soumission des abstracts / Submit your abstract\n					 \nContact VetAgro Sup : Zorée Djelouadji\, Professeur en Microbiologie Médicale\, Présidente du comité locale d’orgnisation et membre du comité scientifique de l’ISWAVLD 2023 
URL:https://www.vetagro-sup.fr/evenement/iswavld-2023-international-symposium-of-the-world-association-of-veterinary-laboratory-diagnosticians/
LOCATION:Centre de Congrès de Lyon\, 50 Quai Charles de Gaulle\, Lyon\, Rhône\, 69006\, France
CATEGORIES:Conference
ATTACH;FMTTYPE=image/png:https://www.vetagro-sup.fr/wp-content/uploads/2020/09/Visuel2.png
END:VEVENT
END:VCALENDAR