BEGIN:VCALENDAR
VERSION:2.0
PRODID:-//VetAgro Sup - ECPv6.15.20//NONSGML v1.0//EN
CALSCALE:GREGORIAN
METHOD:PUBLISH
X-WR-CALNAME:VetAgro Sup
X-ORIGINAL-URL:https://www.vetagro-sup.fr
X-WR-CALDESC:Évènements pour VetAgro Sup
REFRESH-INTERVAL;VALUE=DURATION:PT1H
X-Robots-Tag:noindex
X-PUBLISHED-TTL:PT1H
BEGIN:VTIMEZONE
TZID:Europe/Paris
BEGIN:DAYLIGHT
TZOFFSETFROM:+0100
TZOFFSETTO:+0200
TZNAME:CEST
DTSTART:20220327T010000
END:DAYLIGHT
BEGIN:STANDARD
TZOFFSETFROM:+0200
TZOFFSETTO:+0100
TZNAME:CET
DTSTART:20221030T010000
END:STANDARD
BEGIN:DAYLIGHT
TZOFFSETFROM:+0100
TZOFFSETTO:+0200
TZNAME:CEST
DTSTART:20230326T010000
END:DAYLIGHT
BEGIN:STANDARD
TZOFFSETFROM:+0200
TZOFFSETTO:+0100
TZNAME:CET
DTSTART:20231029T010000
END:STANDARD
BEGIN:DAYLIGHT
TZOFFSETFROM:+0100
TZOFFSETTO:+0200
TZNAME:CEST
DTSTART:20240331T010000
END:DAYLIGHT
BEGIN:STANDARD
TZOFFSETFROM:+0200
TZOFFSETTO:+0100
TZNAME:CET
DTSTART:20241027T010000
END:STANDARD
END:VTIMEZONE
BEGIN:VEVENT
DTSTART;TZID=Europe/Paris:20230501T080000
DTEND;TZID=Europe/Paris:20230531T170000
DTSTAMP:20260420T202727
CREATED:20230522T143814Z
LAST-MODIFIED:20230522T143814Z
UID:51265-1682928000-1685552400@www.vetagro-sup.fr
SUMMARY:Soutenances de thèse - Mai
DESCRIPTION:LANGLOIS Charlotte \nTITRE DE LA THESE :\nModifications du comportement\, de l’occupation spatiale\, et des interactions avec l’environnement des Gibbons (Nomascus leucogenys) du zoo de Lyon dans le cadre de leur changement de volière \n25/05/2023 – 17h00 – Amphi 3 \nPERRIER Camille \nTITRE DE LA THESE :\nIntoxication aux anti-inflammatoires les plus courants chez les carnivores domestiques (études à partir des données du CNITV) \n31/05/2023 – 17h00 – Amphi 1 Froget \n  \n 
URL:https://www.vetagro-sup.fr/evenement/soutenances-de-these-mai/
LOCATION:Amphi 1 Forget VetAgro Sup
CATEGORIES:Conference
ATTACH;FMTTYPE=image/jpeg:https://www.vetagro-sup.fr/wp-content/uploads/2022/07/soutenance_these-scaled.jpg
END:VEVENT
BEGIN:VEVENT
DTSTART;TZID=Europe/Paris:20230503T183000
DTEND;TZID=Europe/Paris:20230503T200000
DTSTAMP:20260420T202727
CREATED:20230425T150932Z
LAST-MODIFIED:20230511T144838Z
UID:50888-1683138600-1683144000@www.vetagro-sup.fr
SUMMARY:Avant d'aller sur Mars - Conférence sur l'agriculture
DESCRIPTION:Intervenants\nSerge ZAKA (docteur en agroclimatologie) et Gerhard Krinner (directeur de recherche à l’Institut des Géosciences de l’Environnement  du CNRS et auteur du chapitre « Changement climatique à long terme » dans le 5e rapport du GIEC). \nProgramme\n\nEtat actuel et futur du climat et ses impacts sur l’agriculture (rendements\, gestion des eaux\, maladies et parasitisme\, sols\, …)\nLevier d’action pour les consommateurs et les producteurs\nImpact de l’agriculture sur le climat \nRéflexions sur une agriculture durable qui resterait productive \n\n			\n						Je m’inscris\n					 \nLes étudiants de VetAgro Sup vous proposent un tout nouveau cycle de conférences « Avant d’aller sur Mars » ! \nPortées par le Club EcoVeto Jr\, ces conférences sont accessibles à tous les publics et sont l’occasion d’ouvrir le débat sur des sujets environnementaux tels que l’état climatique\, la question énergétique\, la conservation de la biodiversité et bien d’autres sujets. \n			\n						Faire un don\n					 \nPourquoi nous aider ?\nVotre participation financière permettra à nos organisateurs de : \n✔️ Financer les interventions et faire venir des conférenciers de renoms. \n✔️ Poursuivre un projet qui nous tient tous à cœur : la végétalisation de nos notre campus ! \n✔️ Développer ces temps d’échanges et de rencontres afin de toucher tous les publics et d’élargir les débats
URL:https://www.vetagro-sup.fr/evenement/avant-daller-sur-mars-conference-sur-lagriculture/
LOCATION:VetAgro Sup – campus vétérinaire\, 1 avenue Bourgelat\, Marcy l'Etoile\, 69280
CATEGORIES:Cycle de conférences - Avant d'aller sur Mars
ATTACH;FMTTYPE=image/jpeg:https://www.vetagro-sup.fr/wp-content/uploads/2023/04/GABARIT_FACEBOOK.jpg
END:VEVENT
BEGIN:VEVENT
DTSTART;VALUE=DATE:20230511
DTEND;VALUE=DATE:20230513
DTSTAMP:20260420T202727
CREATED:20230125T135924Z
LAST-MODIFIED:20230504T100324Z
UID:49900-1683763200-1683935999@www.vetagro-sup.fr
SUMMARY:Universités de printemps du SNVEL
DESCRIPTION:Le Syndicat national des vétérinaires d’exercice libéral (SNVEL) organise ses universités de printemps\, les 11 et 12 mai\, à VetAgro Sup\, poursuivant ainsi sa tournée des écoles nationales vétérinaires\, entamée à Oniris l’année dernière (lire DV n° 1615). Le thème 2023 portera sur « La diversité de l’exercice vétérinaire en clientèle » et se déclinera autour de conférences ainsi que d’ateliers de réflexion. \nIl s’agit de deux jours d’échanges et de débats entre vétérinaires en exercice libéral et étudiants des 4 écoles nationales vétérinaires françaises. \n			\n						Voir le programme\n					 \nSi vous avez des questions\, vous pouvez contacter ana.alkan@vetagro-sup.fr 
URL:https://www.vetagro-sup.fr/evenement/universites-de-printemps-du-snvel/
LOCATION:VetAgro Sup – campus vétérinaire\, 1 avenue Bourgelat\, Marcy l'Etoile\, 69280
ATTACH;FMTTYPE=image/jpeg:https://www.vetagro-sup.fr/wp-content/uploads/2023/01/SNVEL.jpg
END:VEVENT
BEGIN:VEVENT
DTSTART;TZID=Europe/Paris:20230512T090000
DTEND;TZID=Europe/Paris:20230512T170000
DTSTAMP:20260420T202727
CREATED:20230427T072644Z
LAST-MODIFIED:20230427T072919Z
UID:50910-1683882000-1683910800@www.vetagro-sup.fr
SUMMARY:Festival Pop'Sciences - Le bien-être des animaux\, de quoi parle-t-on ?
DESCRIPTION:Une vache peut-elle avoir mal ? Un cochon peut-il ressentir de la joie ? Les animaux ont-ils des émotions ?\nA l’aide d’activités ludiques et pédagogiques\, cet atelier veut aborder la question du bien-être des animaux dans un contexte d’attentes sociétales grandissantes. Les élèves pourront ainsi découvrir\, au travers de jeux et d’échanges\, ce qu’est le bien-être d’un animal et ce qu’il est nécessaire de faire pour le prendre en compte. \nUn atelier proposé la Chaire bien-être animal \n			\n						Site du Festival Pop’Sciences
URL:https://www.vetagro-sup.fr/evenement/festival-popsciences-le-bien-etre-des-animaux-de-quoi-parle-t-on/
LOCATION:Salle Raphaël De Barros\, 251-253 cours Emile-Zola\, Villeurbanne\, 69100
ATTACH;FMTTYPE=image/png:https://www.vetagro-sup.fr/wp-content/uploads/2023/04/Capture.png
END:VEVENT
BEGIN:VEVENT
DTSTART;VALUE=DATE:20230515
DTEND;VALUE=DATE:20230516
DTSTAMP:20260420T202727
CREATED:20230503T070957Z
LAST-MODIFIED:20230503T071122Z
UID:50992-1684108800-1684195199@www.vetagro-sup.fr
SUMMARY:Vétérinaire sanitaire de demain
DESCRIPTION:VetAgro Sup accueillera une des quatre journées de réflexion sur le « vétérinaire sanitaire de demain »\, organisée par la Direction générale de l’alimentation le 15/05. \nRéunissant vétérinaires\, éleveurs et agents de l’État\, cette journée a pour objectif de recueillir leurs avis et propositions sur l’évolution des missions et de la rémunération du vétérinaire sanitaire. \nLes trois autres événements sont ainsi programmés dans les Ecoles nationales vétérinaires : le 2/05 (ONIRIS)\, le 10/05 (ENVT) et le 11/05 (ENVA). \nQuatre ateliers sont prévus avec un duo d’animateurs : \n\nLe vétérinaire sanitaire\, un acteur au cœur de la maîtrise sanitaire au profit des santés publique\, animale et environnementale et de la performance sanitaire et économique des élevages et des filières. (Nathalie Guerson et Pierre Bruyère)\nComment faciliter et s’assurer de la réalisation de la surveillance programmée et de la surveillance évènementielle ? (Stephan Pinède et Vincent Spony)\nQuelle place et quelles missions pour le vétérinaire sanitaire auprès des détenteurs d’animaux de compagnie ? (Mireille Bossy et Léo Focquenoy)\nÉvolution de la modélisation du dispositif sanitaire («trépied» historique) et de la rémunération du vétérinaire sanitaire (Laurent Bazin et André Gauffier)\n\n			\n						En savoir plus
URL:https://www.vetagro-sup.fr/evenement/veterinaire-sanitaire-de-demain/
LOCATION:VetAgro Sup – campus vétérinaire\, 1 avenue Bourgelat\, Marcy l'Etoile\, 69280
ATTACH;FMTTYPE=image/jpeg:https://www.vetagro-sup.fr/wp-content/uploads/2018/11/slider_site_web_veto.jpg
END:VEVENT
BEGIN:VEVENT
DTSTART;TZID=Europe/Paris:20230531T200000
DTEND;TZID=Europe/Paris:20230531T213000
DTSTAMP:20260420T202727
CREATED:20230519T082819Z
LAST-MODIFIED:20230522T143113Z
UID:51239-1685563200-1685568600@www.vetagro-sup.fr
SUMMARY:"Maltraitances animales : repérage\, prise en charge"
DESCRIPTION:Nouvelles dispositions réglementaires autour du secret professionnel\nUne soirée coorganisée par l’AMAH\, VetAgro Sup et l’AFVAC\, ouverte aux vétérinaires\, étudiants vétérinaires et ASV\n \nAu programme :\nTrauma non accidentel :comment l’intégrer dans vos diagnostics différentiels ?\nDre vét. Dominique Autier-Dérian (AMAH)\nVers une évaluation émotionnelle de nos patients.\nDr vét. Claude Béata (AFVAC/GECAF)\nIllustration pratique et clinique autour d’un cas présenté par AMAH.\nCommenté par un membre du GECAF\, un représentant de la DDPP\,discussion avec les équipes vétérinaires\nComprendre le secret professionnel et la possibilité du signalement.\nPr. Denise Remy\, VetAgroSup\nRepérage : vers un questionnement systématiqueen raison du LIEN entre les violences domestiques.\nDre vét. Anne-Claire Gagnon (AMAH)\nParticipation gratuite\,sur inscription auprès de contact@amah-asso.org
URL:https://www.vetagro-sup.fr/evenement/maltraitances-animales-reperage-prise-en-charge/
LOCATION:Amphithéâtre d’honneur\, campus vétérinaire de VetAgro Sup\, 1 avenue Bourgelat\, Marcy l'Etoile\, 69280
CATEGORIES:Conference
ATTACH;FMTTYPE=image/jpeg:https://www.vetagro-sup.fr/wp-content/uploads/2023/05/soiree-maltraitance-animale.jpg
END:VEVENT
END:VCALENDAR