BEGIN:VCALENDAR
VERSION:2.0
PRODID:-//VetAgro Sup - ECPv6.15.20//NONSGML v1.0//EN
CALSCALE:GREGORIAN
METHOD:PUBLISH
X-WR-CALNAME:VetAgro Sup
X-ORIGINAL-URL:https://www.vetagro-sup.fr
X-WR-CALDESC:Évènements pour VetAgro Sup
REFRESH-INTERVAL;VALUE=DURATION:PT1H
X-Robots-Tag:noindex
X-PUBLISHED-TTL:PT1H
BEGIN:VTIMEZONE
TZID:Europe/Paris
BEGIN:DAYLIGHT
TZOFFSETFROM:+0100
TZOFFSETTO:+0200
TZNAME:CEST
DTSTART:20210328T010000
END:DAYLIGHT
BEGIN:STANDARD
TZOFFSETFROM:+0200
TZOFFSETTO:+0100
TZNAME:CET
DTSTART:20211031T010000
END:STANDARD
BEGIN:DAYLIGHT
TZOFFSETFROM:+0100
TZOFFSETTO:+0200
TZNAME:CEST
DTSTART:20220327T010000
END:DAYLIGHT
BEGIN:STANDARD
TZOFFSETFROM:+0200
TZOFFSETTO:+0100
TZNAME:CET
DTSTART:20221030T010000
END:STANDARD
BEGIN:DAYLIGHT
TZOFFSETFROM:+0100
TZOFFSETTO:+0200
TZNAME:CEST
DTSTART:20230326T010000
END:DAYLIGHT
BEGIN:STANDARD
TZOFFSETFROM:+0200
TZOFFSETTO:+0100
TZNAME:CET
DTSTART:20231029T010000
END:STANDARD
END:VTIMEZONE
BEGIN:VEVENT
DTSTART;TZID=Europe/Paris:20221117T103000
DTEND;TZID=Europe/Paris:20221117T123000
DTSTAMP:20260421T192521
CREATED:20220711T144936Z
LAST-MODIFIED:20220928T084729Z
UID:47526-1668681000-1668688200@www.vetagro-sup.fr
SUMMARY:Séminaire EIDER - Le "choice experiment"
DESCRIPTION:Le «choice experiment» : présentation de la méthode et application dans le cadre du projet H2020 Lift\nPar Sandra Saïd\, économiste\, maître de conférences UCA\, UMR Territoires \nL’organisation des séminaires pourra évoluer en fonction des contraintes sanitaires \nToute personne extérieure à l’UMR Territoires est tenue de s’inscrire au moins 3\njours à l’avance auprès de christophe.depres@vetagro-sup.fr
URL:https://www.vetagro-sup.fr/evenement/seminaire-eider-le-choice-experiment/
LOCATION:INRAE Cezeaux
ATTACH;FMTTYPE=image/jpeg:https://www.vetagro-sup.fr/wp-content/uploads/2019/02/UMR-TerritoiresLogo-1024x804.jpg
END:VEVENT
END:VCALENDAR