BEGIN:VCALENDAR
VERSION:2.0
PRODID:-//VetAgro Sup - ECPv6.15.20//NONSGML v1.0//EN
CALSCALE:GREGORIAN
METHOD:PUBLISH
X-ORIGINAL-URL:https://www.vetagro-sup.fr
X-WR-CALDESC:Évènements pour VetAgro Sup
REFRESH-INTERVAL;VALUE=DURATION:PT1H
X-Robots-Tag:noindex
X-PUBLISHED-TTL:PT1H
BEGIN:VTIMEZONE
TZID:Europe/Paris
BEGIN:DAYLIGHT
TZOFFSETFROM:+0100
TZOFFSETTO:+0200
TZNAME:CEST
DTSTART:20210328T010000
END:DAYLIGHT
BEGIN:STANDARD
TZOFFSETFROM:+0200
TZOFFSETTO:+0100
TZNAME:CET
DTSTART:20211031T010000
END:STANDARD
BEGIN:DAYLIGHT
TZOFFSETFROM:+0100
TZOFFSETTO:+0200
TZNAME:CEST
DTSTART:20220327T010000
END:DAYLIGHT
BEGIN:STANDARD
TZOFFSETFROM:+0200
TZOFFSETTO:+0100
TZNAME:CET
DTSTART:20221030T010000
END:STANDARD
BEGIN:DAYLIGHT
TZOFFSETFROM:+0100
TZOFFSETTO:+0200
TZNAME:CEST
DTSTART:20230326T010000
END:DAYLIGHT
BEGIN:STANDARD
TZOFFSETFROM:+0200
TZOFFSETTO:+0100
TZNAME:CET
DTSTART:20231029T010000
END:STANDARD
END:VTIMEZONE
BEGIN:VEVENT
DTSTART;TZID=Europe/Paris:20220608T141500
DTEND;TZID=Europe/Paris:20220608T141500
DTSTAMP:20260420T122847
CREATED:20220513T101959Z
LAST-MODIFIED:20220513T101959Z
UID:46018-1654697700-1654697700@www.vetagro-sup.fr
SUMMARY:Soutenance du mémoire d'H.D.R. (Habilitation à diriger des recherches) de Gilles BOURGOIN
DESCRIPTION:Nous avons le plaisir de vous informer de la soutenance publique du mémoire d’H.D.R. (Habilitation à diriger des recherches) de Gilles BOURGOIN\, Unité Mixte de Recherche Laboratoire de Biométrie et Biologie Évolutive (LBBE) UMR 5558\, intitulé : \n« Les ongulés en interaction avec leur environnement et les parasites dans un monde hétérogène et changeant ». \nLe mercredi 8 juin à 14h15 dans l’amphithéâtre de la délégation CNRS (2 avenue Albert Einstein – BP61335 – 69609 Villeurbanne Cedex).
URL:https://www.vetagro-sup.fr/evenement/soutenance-du-memoire-dh-d-r-habilitation-a-diriger-des-recherches-de-gilles-bourgoin/
LOCATION:Amphithéâtre de la délégation CNRS\, 2 avenue Albert Einstein - BP61335\, Villeurbanne\, 69609
ATTACH;FMTTYPE=image/jpeg:https://www.vetagro-sup.fr/wp-content/uploads/2022/05/soutenance_HDR-scaled.jpg
END:VEVENT
END:VCALENDAR