BEGIN:VCALENDAR
VERSION:2.0
PRODID:-//VetAgro Sup - ECPv6.15.20//NONSGML v1.0//EN
CALSCALE:GREGORIAN
METHOD:PUBLISH
X-WR-CALNAME:VetAgro Sup
X-ORIGINAL-URL:https://www.vetagro-sup.fr
X-WR-CALDESC:Évènements pour VetAgro Sup
REFRESH-INTERVAL;VALUE=DURATION:PT1H
X-Robots-Tag:noindex
X-PUBLISHED-TTL:PT1H
BEGIN:VTIMEZONE
TZID:Europe/Paris
BEGIN:DAYLIGHT
TZOFFSETFROM:+0100
TZOFFSETTO:+0200
TZNAME:CEST
DTSTART:20220327T010000
END:DAYLIGHT
BEGIN:STANDARD
TZOFFSETFROM:+0200
TZOFFSETTO:+0100
TZNAME:CET
DTSTART:20221030T010000
END:STANDARD
BEGIN:DAYLIGHT
TZOFFSETFROM:+0100
TZOFFSETTO:+0200
TZNAME:CEST
DTSTART:20230326T010000
END:DAYLIGHT
BEGIN:STANDARD
TZOFFSETFROM:+0200
TZOFFSETTO:+0100
TZNAME:CET
DTSTART:20231029T010000
END:STANDARD
BEGIN:DAYLIGHT
TZOFFSETFROM:+0100
TZOFFSETTO:+0200
TZNAME:CEST
DTSTART:20240331T010000
END:DAYLIGHT
BEGIN:STANDARD
TZOFFSETFROM:+0200
TZOFFSETTO:+0100
TZNAME:CET
DTSTART:20241027T010000
END:STANDARD
END:VTIMEZONE
BEGIN:VEVENT
DTSTART;VALUE=DATE:20231104
DTEND;VALUE=DATE:20231105
DTSTAMP:20260420T205305
CREATED:20230718T074228Z
LAST-MODIFIED:20231114T130921Z
UID:52000-1699056000-1699142399@www.vetagro-sup.fr
SUMMARY:Forum de la formation vétérinaire | 100% virtuel
DESCRIPTION:Dans le cadre du forum de la formation vétérinaire\, organisé par les quatre écoles nationales vétérinaires de France (ENVF)\, VetAgro Sup propose aux élèves de découvrir les métiers de vétérinaire et d’inspecteur de santé publique vétérinaire. Grâce aux divers enseignants\, personnels et étudiants à votre disposition sur cette journée\, vous pourrez découvrir en détail le campus vétérinaire et les multiples facettes des métiers enseignés. Les conférences et témoignages live vous permettront de poser directement vos questions à nos intervenants. Le forum des formations vétérinaires 2023 a lieu entièrement en virtuel\, aucun public ne sera accueilli sur le campus. s 								\n				\n				\n				\n					Programme 				\n				\n				\n				\n									De 9h00 à 9h45 : L’accès aux études vétérinaires via la voie post-bac des ENVF De 9h45 à 10h30 : Le cursus vétérinaire De 10h30 à 11h15 : Le cursus et le métier d’inspecteur de santé publique vétérinaire (ISPV) De 11h15 à 12h00 : L’histoire de l’enseignement vétérinaire et de la 1e école vétérinaire au monde De 12h00 à 12h45 : La vie associative sur le campus vétérinaire de VetAgro Sup\, conférence animée par des étudiants du Cercle Bourgelat De 13h30 à 14h00 : Le métier de vétérinaire pour la faune sauvage De 14h00 à 14h30 : Le métier de vétérinaire pour les nouveaux animaux de compagnie (NAC)  De 14h30 à 15h00 : Le métier de vétérinaire dans l’enseignement supérieur et la recherche  De 15h00 à 15h30 : Le métier de vétérinaire en rural De 15h30 à 16h00 : Le métier de vétérinaire en soins intensifs pour animaux de compagnie 								\n				\n				\n				\n									\n					\n						\n									Je m'inscris\n					\n					\n				\n								\n				\n				\n				\n									Clôture des inscriptions le jeudi 2 novembre à 18h Vous recevrez les liens des conférences par mail le vendredi 3 novembre avant 18h. Pensez à vérifier vos spams. 								\n				\n				\n				\n					Forums des ENVF				\n				\n				\n				\n							\n							\n											\n\n												\n													\n										18 novembre 2023 à l'ENVA\n											\n									\n								\n											\n\n												\n													\n										9 décembre 2023 à l'ENVT\n											\n									\n								\n											\n													\n										Date à venir à Oniris
URL:https://www.vetagro-sup.fr/evenement/forum-des-formations-veterinaires-100-virtuel/
LOCATION:En ligne
CATEGORIES:Conference,Webinaire
ATTACH;FMTTYPE=image/png:https://www.vetagro-sup.fr/wp-content/uploads/2023/07/capture-evenement-site-2.png
END:VEVENT
END:VCALENDAR