BEGIN:VCALENDAR
VERSION:2.0
PRODID:-//VetAgro Sup - ECPv6.15.20//NONSGML v1.0//EN
CALSCALE:GREGORIAN
METHOD:PUBLISH
X-WR-CALNAME:VetAgro Sup
X-ORIGINAL-URL:https://www.vetagro-sup.fr
X-WR-CALDESC:Évènements pour VetAgro Sup
REFRESH-INTERVAL;VALUE=DURATION:PT1H
X-Robots-Tag:noindex
X-PUBLISHED-TTL:PT1H
BEGIN:VTIMEZONE
TZID:Europe/Paris
BEGIN:DAYLIGHT
TZOFFSETFROM:+0100
TZOFFSETTO:+0200
TZNAME:CEST
DTSTART:20220327T010000
END:DAYLIGHT
BEGIN:STANDARD
TZOFFSETFROM:+0200
TZOFFSETTO:+0100
TZNAME:CET
DTSTART:20221030T010000
END:STANDARD
BEGIN:DAYLIGHT
TZOFFSETFROM:+0100
TZOFFSETTO:+0200
TZNAME:CEST
DTSTART:20230326T010000
END:DAYLIGHT
BEGIN:STANDARD
TZOFFSETFROM:+0200
TZOFFSETTO:+0100
TZNAME:CET
DTSTART:20231029T010000
END:STANDARD
BEGIN:DAYLIGHT
TZOFFSETFROM:+0100
TZOFFSETTO:+0200
TZNAME:CEST
DTSTART:20240331T010000
END:DAYLIGHT
BEGIN:STANDARD
TZOFFSETFROM:+0200
TZOFFSETTO:+0100
TZNAME:CET
DTSTART:20241027T010000
END:STANDARD
END:VTIMEZONE
BEGIN:VEVENT
DTSTART;TZID=Europe/Paris:20231012T183000
DTEND;TZID=Europe/Paris:20231012T203000
DTSTAMP:20260420T160130
CREATED:20230906T133608Z
LAST-MODIFIED:20230906T133930Z
UID:52234-1697135400-1697142600@www.vetagro-sup.fr
SUMMARY:Comment faire face aux risques liés aux pathogènes émergents ?
DESCRIPTION:Elevages durables\, respectueux de la santé et du bien-être des animaux				\n				\n				\n				\n									INRAE\, VetAgro Sup\, Agreenium\, le GIS Avenir Élevages\, l’Ifip\, l’Itavi et Idele organisent une journée d’actualisation des connaissances et d’échange avec les parties prenantes sur les orientations de recherche en santé et bien-être des animaux souvent en synergie\, quelques fois antagonistes. \nConcevoir des élevages favorisant la santé et le bien-être animal est un pari gagnant pour les éleveurs et une réponse aux attentes des citoyens. \nLors de cette journée nous aborderons plusieurs questions : \n\n\n 	Quelles synergies et tensions entre bien-être et santé ?\n 	Quels impacts des pratiques favorisant la relation adulte-jeune ?\n 	Comment les initiatives associant les parties prenantes permettent de faire évoluer la conception d’élevages plus durables ?\n 	Comment valoriser ces pratiques dans les filières de production ?\n\n\n\nAccessible en présentiel à VetAgro Sup (campus vétérinaire de Marcy l’étoile) et en distanciel.\n\n								\n				\n				\n				\n									\n					\n						\n									En savoir plus
URL:https://www.vetagro-sup.fr/evenement/comment-faire-face-aux-risques-lies-aux-pathogenes-emergents/
LOCATION:Amphithéâtre d’honneur\, campus vétérinaire de VetAgro Sup\, 1 avenue Bourgelat\, Marcy l'Etoile\, 69280
CATEGORIES:Conference
ATTACH;FMTTYPE=image/png:https://www.vetagro-sup.fr/wp-content/uploads/2023/09/2023_10_12_Conf_Musee_Merieux.png
ORGANIZER;CN="Mus%C3%A9e de sciences biologiques - Docteur M%C3%A9rieux":MAILTO:contact@musee-docteur-merieux.com
END:VEVENT
END:VCALENDAR