BEGIN:VCALENDAR
VERSION:2.0
PRODID:-//VetAgro Sup - ECPv6.15.20//NONSGML v1.0//EN
CALSCALE:GREGORIAN
METHOD:PUBLISH
X-ORIGINAL-URL:https://www.vetagro-sup.fr
X-WR-CALDESC:Évènements pour VetAgro Sup
REFRESH-INTERVAL;VALUE=DURATION:PT1H
X-Robots-Tag:noindex
X-PUBLISHED-TTL:PT1H
BEGIN:VTIMEZONE
TZID:Europe/Paris
BEGIN:DAYLIGHT
TZOFFSETFROM:+0100
TZOFFSETTO:+0200
TZNAME:CEST
DTSTART:20230326T010000
END:DAYLIGHT
BEGIN:STANDARD
TZOFFSETFROM:+0200
TZOFFSETTO:+0100
TZNAME:CET
DTSTART:20231029T010000
END:STANDARD
BEGIN:DAYLIGHT
TZOFFSETFROM:+0100
TZOFFSETTO:+0200
TZNAME:CEST
DTSTART:20240331T010000
END:DAYLIGHT
BEGIN:STANDARD
TZOFFSETFROM:+0200
TZOFFSETTO:+0100
TZNAME:CET
DTSTART:20241027T010000
END:STANDARD
BEGIN:DAYLIGHT
TZOFFSETFROM:+0100
TZOFFSETTO:+0200
TZNAME:CEST
DTSTART:20250330T010000
END:DAYLIGHT
BEGIN:STANDARD
TZOFFSETFROM:+0200
TZOFFSETTO:+0100
TZNAME:CET
DTSTART:20251026T010000
END:STANDARD
END:VTIMEZONE
BEGIN:VEVENT
DTSTART;TZID=Europe/Paris:20241101T080000
DTEND;TZID=Europe/Paris:20241130T180000
DTSTAMP:20260419T170325
CREATED:20241216T150016Z
LAST-MODIFIED:20241216T150016Z
UID:56335-1730448000-1732989600@www.vetagro-sup.fr
SUMMARY:Soutenance de thèses vétérinaires - novembre 2024
DESCRIPTION:Consultez les soutenances de thèses programmées en novembre 2024 : \nSoutenances 01 au 15 novembre 2024 V3 \nAvis des soutenances thèse 16-11-24 au 30-11-24
URL:https://www.vetagro-sup.fr/evenement/soutenance-de-theses-veterinaires-novembre-2024/
ATTACH;FMTTYPE=image/jpeg:https://www.vetagro-sup.fr/wp-content/uploads/2022/07/soutenance_these-scaled.jpg
END:VEVENT
BEGIN:VEVENT
DTSTART;TZID=Europe/Paris:20241123T090000
DTEND;TZID=Europe/Paris:20241123T170000
DTSTAMP:20260419T170325
CREATED:20241028T150132Z
LAST-MODIFIED:20241112T104206Z
UID:55800-1732352400-1732381200@www.vetagro-sup.fr
SUMMARY:Forum de la formation agronomique 2024
DESCRIPTION:Forum 100% en ligne ! \nLien pour s’inscrire au forum : cliquez ici \n************************ \nProgramme : \n10h00 : La licence professionnelle « Agriculture Biologique : Conseil & Développement » \n10h30 : Le cursus d’ingénieur agronome \n13h00 : L’ingénieur agronome en sciences végétales \n13h30 : L’ingénieur agronome en développement territorial \n14h00 : L’ingénieur agronome en management commercial et marketing \n14h30 : L’ingénieur agronome en agroalimentaire \n15h00 : L’ingénieur agronome en santé globale \n15h30 : L’ingénieur agronome en sciences animales
URL:https://www.vetagro-sup.fr/evenement/forum-des-formations-agronomiques/
LOCATION:En ligne
CATEGORIES:Conference
END:VEVENT
END:VCALENDAR