BEGIN:VCALENDAR
VERSION:2.0
PRODID:-//VetAgro Sup - ECPv6.15.20//NONSGML v1.0//EN
CALSCALE:GREGORIAN
METHOD:PUBLISH
X-WR-CALNAME:VetAgro Sup
X-ORIGINAL-URL:https://www.vetagro-sup.fr
X-WR-CALDESC:Évènements pour VetAgro Sup
REFRESH-INTERVAL;VALUE=DURATION:PT1H
X-Robots-Tag:noindex
X-PUBLISHED-TTL:PT1H
BEGIN:VTIMEZONE
TZID:Europe/Paris
BEGIN:DAYLIGHT
TZOFFSETFROM:+0100
TZOFFSETTO:+0200
TZNAME:CEST
DTSTART:20230326T010000
END:DAYLIGHT
BEGIN:STANDARD
TZOFFSETFROM:+0200
TZOFFSETTO:+0100
TZNAME:CET
DTSTART:20231029T010000
END:STANDARD
BEGIN:DAYLIGHT
TZOFFSETFROM:+0100
TZOFFSETTO:+0200
TZNAME:CEST
DTSTART:20240331T010000
END:DAYLIGHT
BEGIN:STANDARD
TZOFFSETFROM:+0200
TZOFFSETTO:+0100
TZNAME:CET
DTSTART:20241027T010000
END:STANDARD
BEGIN:DAYLIGHT
TZOFFSETFROM:+0100
TZOFFSETTO:+0200
TZNAME:CEST
DTSTART:20250330T010000
END:DAYLIGHT
BEGIN:STANDARD
TZOFFSETFROM:+0200
TZOFFSETTO:+0100
TZNAME:CET
DTSTART:20251026T010000
END:STANDARD
END:VTIMEZONE
BEGIN:VEVENT
DTSTART;VALUE=DATE:20241001
DTEND;VALUE=DATE:20241005
DTSTAMP:20260419T183712
CREATED:20240830T083050Z
LAST-MODIFIED:20240927T114729Z
UID:55475-1727740800-1728086399@www.vetagro-sup.fr
SUMMARY:Sommet de l'élevage 2024
DESCRIPTION:VetAgro Sup au Sommet de l’élevage 2024\nQuatre conférences thématiques pour les professionnels\, plus de 200 étudiants mobilisés sur une semaine\, le Sommet de l’élevage est un évènement incontournable pour les personnels et étudiants de VetAgro Sup qui participent\, chaque année\, à ce salon emblématique.  \n																										 \nProgramme :\nMardi 1er octobre 2024 \nConférence « Des agriculteurs\, des projets et des besoins spécifiques : regard sur huit profils types d’agriculteurs à partir du recensement de l’agriculture » \n10h – 12h // salle 2 \nA quoi ressemble l’agriculture ? Qui sont les agriculteurs ? Sont-ils des exploitants\, des chefs d’exploitation\, des chefs d’atelier\, des paysans\, des entrepreneurs\, des chefs d’entreprises ? VetAgro Sup et le service régional de la statistique du ministère en charge de l’agriculture (SRISET-DRAAF) ont analysé sous un angle original le dernier recensement de l’agriculture. Les résultats font ressortir huit profils types différents. Ces agricultures et cette diversité des profils montrent que les agriculteurs ont besoin de conseils\, d’accompagnement et de politiques publiques spécifiques pour relever les enjeux. \nEn partenariat avec : DRAAF Auvergne-Rhône-Alpes (SRISET) \nPrésentation du projet ACTIFE \n10h \n************************************************************************************ \nMercredi 2 octobre 2024 \nConférence « Règlementation sur le bien-être animal : état des lieux et perspectives » \n9h30 – 12h // salle mezzanine \nLes attentes de la société en matière de bien-être animal sont croissantes. Cela se traduit dans la règlementation qui évolue\, notamment à l’échelle européenne. Au travers de cette matinée organisée par la Chaire bien-être animal de VetAgro Sup\, nous ferons un état des lieux de la règlementation en matière de bien-être animal et des perspectives à venir. Nous ouvrirons ensuite la discussion sur ce que ces évolutions impliquent concrètement pour les acteurs sur le terrain via une table ronde rassemblant des éleveurs\, vétérinaires et représentants des politiques publiques. \n  \nCocktail des partenaires \n12h // stand VetAgro Sup – F184 \n  \nSignature de convention de partenariat avec La Coopération agricole \n17h // stand VetAgro Sup – F184 \n************************************************************************************ \nJeudi 3 octobre 2024 \nConférence « Renouvellement des générations : quelle place pour les femmes dans l’agriculture de demain ? » \n9h30 – 12h // salle mezzanine \nLes femmes ont\, de tout temps\, occupé une place importante dans la vie des exploitations agricoles avec parfois peu de reconnaissance. \nA l’heure du renouvellement des générations d’agriculteurs et d’agricultrices\, quels constats ? \nQuelles opportunités et obstacles pour les cheffes d’exploitation ou celles en devenir ? \nEn partenariat avec : DRAAF Auvergne-Rhône-Alpes et INRAE Clermont-Auvergne-Rhône-Alpes. \n ************************************************************************************ \nVendredi 4 octobre 2024 \n Conférence « Le techno-pâturage : optimiser le pâturage pour diminuer le bilan carbone de son exploitation » \n10h – 12h // salle 2 \nLe techno-pâturage est une méthode de pâturage tournant dynamique très précise qui permet à des troupeaux de passer toute l’année dehors avec une ration équilibrée et des conditions de vie améliorées. VetAgro Sup et ses alumni ingénieurs agronomes et docteurs vétérinaires vous invitent à la projection du court métrage « CARBONE PÂTURÉ : l’élevage contre le réchauffement climatique ? »\, qui vous emmènera à la découverte d’éleveurs de brebis Causses-du-Lot mettant en œuvre le techno-pâturage pour optimiser leur production et réduire leurs investissements et leur impact environnemental. La projection sera suivie d’une table ronde pour croiser les regards sur ces techniques de pâturages de pointe\, bonnes pour l’environnement et le portefeuille. \n  \n  \nSignature d’une convention de partenariat avec la SAFER Auvergne-Rhône-Alpes \n11h30 // stand D129
URL:https://www.vetagro-sup.fr/evenement/sommet-de-lelevage-2024/
LOCATION:Grande Halle d’Auvergne\, Plaine de sarliève\, Cournon d'Auvergne\, 63808\, France
CATEGORIES:Salon
END:VEVENT
BEGIN:VEVENT
DTSTART;VALUE=DATE:20241001
DTEND;VALUE=DATE:20241101
DTSTAMP:20260419T183712
CREATED:20241001T102240Z
LAST-MODIFIED:20241216T150152Z
UID:55642-1727740800-1730419199@www.vetagro-sup.fr
SUMMARY:Soutenances de thèses de doctorat vétérinaire - octobre 2024
DESCRIPTION:DECLUME Clarisse \n\nLe 04/10/2024 à 15h00\nAmphi 1 Froget à VetAgro Sup\nTITRE DE LA THESE : LA CONDUITE DU CHANGEMENT EN ÉTABLISSEMENTS DE SOINS VÉTÉRINAIRES\n\nLE FLOCH Axelle \n\nLe 04/10/2024 à 16h00\nAmphi 1 Froget à VetAgro Sup\nTITRE DE LA THESE : IMPLICATION DE L’OSTREID HERPESVIRUS 1 ET DE SES CO-FACTEURS DANS LA MORTALITE DE L’HUITRE CREUSE CRASSOSTREA GIGAS\n\nDEROMELAERE Valentin \n\nLe 04/10/2024 à 17h00\nAmphi 1 Froget à VetAgro Sup\nTITRE DE LA THESE :SUIVI LONGITUDINAL DES POPULATIONS D’ACINETOBACTER BAUMANNII CHEZ LES ANIMAUX DE RENTE ET DANS L’ENVIRONNEMENT DE LA REGION LYONNAISE\n\nPARISOT Léa \n\nLe 09/10/2024 à 18h00\nAmphi 1 Froget à VetAgro Sup\nTITRE DE LA THESE :VERS UNE MEILLEURE SÉCURITÉ DES SOINS VÉTÉRINAIRES : OPTIMISATION DE LA REMONTEE D’INFORMATIONS EN ETABLISSEMENT DE SOINS VETERINAIRES\n\nHUMBERT Emma \n\nLe 10/10/2024 à 14h00\nAmphi 1 Froget à VetAgro Sup\nTITRE DE LA THESE : CONCEPTION D’UN JEU SERIEUX CONTRIBUANT A L’ENSEIGNEMENT DE LA MEDECINE DE TROUPEAUX DE BOVINS DESTINE AUX ETUDIANTS VETERINAIRES EN APPROFONDISSEMENT\n\nTHOMAS Gaëtan \n\nLe 10/10/2024 à 15h00\nAmphi 1 Froget à VetAgro Sup\nTITRE DE LA THESE : PRISE EN CHARGE DE LA PODODERMATITE CHEZ LE LAPIN DE COMPAGNIE\, RÉSULTATS D’UNE ENQUÊTE AUPRÈS DE VÉTÉRINAIRES FRANÇAIS\n\nPOUGET Juliette  \n\nLe 11/10/2024 à 15h00\nAmphi 1 Froget à VetAgro Sup\nTITRE DE LA THESE : ELABORATION D’UN GUIDE PRATIQUE DE L’AUTOPSIE BOVINE ET APPLICATION DE LA GAMIFICATION A DES CAS CLINIQUES PEDAGOGIQUES\n\nDESPRES Charlotte \n\nLe 11/10/2024 à 16h00\nAmphi 1 Froget à VetAgro Sup\nTITRE DE LA THESE : PYELONEPHRITES CHEZ LES CARNIVORES DOMESTIQUES : MEDECINE FACTUELLE ET COMPAREE\n\nGERARD Périne \n\nLe 11/10/2024 à 18h00\nAmphi 1 Froget à VetAgro Sup\nTITRE DE LA THESE :LES POUX CHEZ LES BOVINS : MISE AU POINT BIBLIOGRAPHIQUE SUR LEUR ROLE DE VECTEUR ET ETUDE DE LEUR DYNAMIQUE EN ELEVAGE\n\n  \nSuite des thèses programmées :\n16 au 31 octobre 2024
URL:https://www.vetagro-sup.fr/evenement/soutenances-de-theses-de-doctorat-veterinaire-octobre-2024/
ATTACH;FMTTYPE=image/jpeg:https://www.vetagro-sup.fr/wp-content/uploads/2022/05/soutenance_these-2-scaled.jpg
END:VEVENT
END:VCALENDAR