BEGIN:VCALENDAR
VERSION:2.0
PRODID:-//VetAgro Sup - ECPv6.15.20//NONSGML v1.0//EN
CALSCALE:GREGORIAN
METHOD:PUBLISH
X-ORIGINAL-URL:https://www.vetagro-sup.fr
X-WR-CALDESC:Évènements pour VetAgro Sup
REFRESH-INTERVAL;VALUE=DURATION:PT1H
X-Robots-Tag:noindex
X-PUBLISHED-TTL:PT1H
BEGIN:VTIMEZONE
TZID:Europe/Paris
BEGIN:DAYLIGHT
TZOFFSETFROM:+0100
TZOFFSETTO:+0200
TZNAME:CEST
DTSTART:20230326T010000
END:DAYLIGHT
BEGIN:STANDARD
TZOFFSETFROM:+0200
TZOFFSETTO:+0100
TZNAME:CET
DTSTART:20231029T010000
END:STANDARD
BEGIN:DAYLIGHT
TZOFFSETFROM:+0100
TZOFFSETTO:+0200
TZNAME:CEST
DTSTART:20240331T010000
END:DAYLIGHT
BEGIN:STANDARD
TZOFFSETFROM:+0200
TZOFFSETTO:+0100
TZNAME:CET
DTSTART:20241027T010000
END:STANDARD
BEGIN:DAYLIGHT
TZOFFSETFROM:+0100
TZOFFSETTO:+0200
TZNAME:CEST
DTSTART:20250330T010000
END:DAYLIGHT
BEGIN:STANDARD
TZOFFSETFROM:+0200
TZOFFSETTO:+0100
TZNAME:CET
DTSTART:20251026T010000
END:STANDARD
END:VTIMEZONE
BEGIN:VEVENT
DTSTART;TZID=Europe/Paris:20240904T143000
DTEND;TZID=Europe/Paris:20240904T173000
DTSTAMP:20260419T201037
CREATED:20240515T093759Z
LAST-MODIFIED:20240705T143032Z
UID:54728-1725460200-1725471000@www.vetagro-sup.fr
SUMMARY:25 ans du CEAV - certificat d'études approfondies vétérinaires en médecine interne des animaux de compagnie
DESCRIPTION:SUR INSCRIPTION UNIQUEMENT : https://25ansceav.vetagro-sup.fr/ \nA l’occasion de son 25e anniversaire\, le CEAV organise un symposium sur le thème : « La médecine interne à l’avenir\, mise en perspective en pathologie comparée avec la médecine humaine ». \n \nProgramme :\n14h30 – 17h30 \n\nLes 25 ans du CEAV\, bilan et perspectives\nColloque sur le devenir de la médecine interne\, aspects comparés avec la médecine humaine et perspectives\n\n17h30 – 18h30 \n\n\n\nConférence de clôture\nCocktail
URL:https://www.vetagro-sup.fr/evenement/25-ans-du-ceav-certificat-detudes-approfondies-veterinaires-en-medecine-interne-des-animaux-de-compagnie/
CATEGORIES:Congrès
ATTACH;FMTTYPE=image/jpeg:https://www.vetagro-sup.fr/wp-content/uploads/2024/05/Invitation-25-ans-CEAV-2024.jpg
END:VEVENT
END:VCALENDAR