BEGIN:VCALENDAR
VERSION:2.0
PRODID:-//VetAgro Sup - ECPv6.15.20//NONSGML v1.0//EN
CALSCALE:GREGORIAN
METHOD:PUBLISH
X-ORIGINAL-URL:https://www.vetagro-sup.fr
X-WR-CALDESC:Évènements pour VetAgro Sup
REFRESH-INTERVAL;VALUE=DURATION:PT1H
X-Robots-Tag:noindex
X-PUBLISHED-TTL:PT1H
BEGIN:VTIMEZONE
TZID:Europe/Paris
BEGIN:DAYLIGHT
TZOFFSETFROM:+0100
TZOFFSETTO:+0200
TZNAME:CEST
DTSTART:20230326T010000
END:DAYLIGHT
BEGIN:STANDARD
TZOFFSETFROM:+0200
TZOFFSETTO:+0100
TZNAME:CET
DTSTART:20231029T010000
END:STANDARD
BEGIN:DAYLIGHT
TZOFFSETFROM:+0100
TZOFFSETTO:+0200
TZNAME:CEST
DTSTART:20240331T010000
END:DAYLIGHT
BEGIN:STANDARD
TZOFFSETFROM:+0200
TZOFFSETTO:+0100
TZNAME:CET
DTSTART:20241027T010000
END:STANDARD
BEGIN:DAYLIGHT
TZOFFSETFROM:+0100
TZOFFSETTO:+0200
TZNAME:CEST
DTSTART:20250330T010000
END:DAYLIGHT
BEGIN:STANDARD
TZOFFSETFROM:+0200
TZOFFSETTO:+0100
TZNAME:CET
DTSTART:20251026T010000
END:STANDARD
END:VTIMEZONE
BEGIN:VEVENT
DTSTART;VALUE=DATE:20240701
DTEND;VALUE=DATE:20240727
DTSTAMP:20260420T010514
CREATED:20240628T121405Z
LAST-MODIFIED:20240628T121405Z
UID:55094-1719792000-1722038399@www.vetagro-sup.fr
SUMMARY:Soutenance des thèses - juillet 2024 - Doctorat vétérinaire
DESCRIPTION:BLANCHARD Maud  \nTITRE DE LA THESE : RELATION ENTRE LA PRESSION INTRAOCULAIRE ET LA VARIATION DU DIAMETRE ANTEROPOSTERIEUR SUR OEIL ATTEINT D’UVEITE OU GLAUCOME – ÉTUDE RETROSPECTIVE SUR 97 CHEVAUX EXAMINES ENTRE JUIN 2019 ET DECEMBRE 2023 \n1er juillet 2024 à 18h – salle Chauveau \nGONY Charline \nTITRE DE LA THESE : CARACTERISATION DE NOUVELLES COULEURS DE PELAGE CHEZ LE CHAT BRITISH \n2 juillet 2024 à 14h – amphi 1 Froget \nVISSEAUX Clémence \nTITRE DE LA THESE : PRISE EN CHARGE DES MODIFICATIONS DU MICROBIOTE INTESTINAL ET CUTANE DE L’HOMME ET DU CHIEN DANS LA DERMATITE ATOPIQUE : INTERET DES PREBIOTIQUES ET PROBIOTIQUES \n2 juillet 2024 à 15h – amphi 1 Froget \nGUYOT Chloé \nTITRE DE LA THESE : EFFICACITE DES AUTOVACCINS SUR LES PYODERMITES A STAPHYLOCOCCUS PSEUDINTERMEDIUS CHEZ LE CHIEN \n2 juillet 2024 à 16h – amphi 1 Froget \nFIGUIERE Corentin \nTITRE DE LA THESE : ETUDE DE L’EFFICACITE DE LA BIOMODULATION PAR FLUORESCENCE DANS LE CADRE DE PYODERMITES PROFONDES CANINES \n2 juillet 2024 à 17h – amphi 1 Froget \nVACHER Léa \nTITRE DE LA THESE : LES DERMATOSES ENDOCRINIENNES DU CHIEN : ETAT DES CONNAISSANCES ET ILLUSTRATION AU MOYEN DE CAS CLINIQUES \n2 juillet 2024 à 18h – amphi 1 Froget \nPAPON Coline \nTITRE DE LA THESE : ÉTUDE DES FACTEURS DE RISQUE ET SOLUTIONS ENVISAGEABLES CONTRE LES MAMMITES EN ÉLEVAGE OVIN ALLAITANT \n4 juillet 2024 à 15h – amphi 1 Froget \nSCHAEDGEN Manon  \nTITRE DE LA THESE : ÉTUDE DES PROFILS DE RÉSISTANCE DES STAPHYLOCOQUES PATHOGÈNES ET DE PSEUDOMONAS AERUGINOSA EN DERMATOLOGIE DU CHIEN DANS LE MONDE ET UTILISATION DES ANTIBIOTIQUES \n4 juillet 2024 à 16h – amphi 1 Froget \nMANGE Lucile \nTITRE DE LA THESE : ETUDE SUR L’EVOLUTION DE LA MEDICALISATION DES CARNIVORES DOMESTIQUES DE 1997 A 2020 \n5 juillet 2024 à 10h – salle 6 \nROBERT Thomas  \nTITRE DE LA THESE : ETAT DES CONNAISSANCES SUR LES ICHTYOSES DU CHIEN\, COMPARAISON AVEC L’HOMME \n5 juillet 2024 à 14h – salle Chauveau \nEVRARD Hélène  \nTITRE DE LA THESE : ETAT ACTUEL DES CONNAISSANCES SUR L’ALIMENTATION ET LES CONDITIONS DE DÉTENTION DES LAPINS DE COMPAGNIE : RESULTAT D’UNE ENQUETE REALISEE AUPRES DES PROPRIETAIRES FRANCAIS \n5 juillet 2024 à 15h – salle Chauveau \nMARGELIDON Vivia  \nTITRE DE LA THESE : CONCEPTION D’UN MODÈLE D’ÉPISIOTOMIE CHEZ LES BOVINS POUR L’ENSEIGNEMENT PAR SIMULATION AU SEIN DE VETAGRO SUP \n5 juillet 2024 à 14h – amphi 1 Froget \nPULCINI Lucas  \nTITRE DE LA THESE : CONSTRUCTION D’UN MANNEQUIN D’UN ABDOMEN DE CHIEN PAR IMPRESSION 3D A DES FINS PÉDAGOGIQUES \n5 juillet 2024 à 15h – amphi 1 Froget \nPOUTIGNAT Pauline  \nTITRE DE LA THESE : LES TUMEURS CUTANEES CHEZ LE CHAT : BIBLIOGRAPHIE ET ETUDE RETROSPECTIVE DE 226 CAS PRESENTES AU CHUVAC ENTRE 2013 ET 2022 \n5 juillet 2024 à 16h – amphi 1 Froget \nMALECHET Flora  \nTITRE DE LA THESE : ONNAISSANCES ACTUELLES SUR LES MALASSEZIA SPP. ET LES AFFECTIONS QU’ILS INDUISENT CHEZ LE CHIEN ET L’HOMME \n5 juillet 2024 à 17h – amphi 1 Froget \nLEGUILLON Jeanne-Marie  \nTITRE DE LA THESE : LES INFLAMMATIONS UTÉRINES CHEZ LA JUMENT ET LA VACHE \n9 juillet 2024 à 10h – amphi 1 Froget \nSAUGUES Emma  \nTITRE DE LA THESE : CREATION ET EVALUATION DE L’INTERET PEDAGOGIQUE D’UN ESCAPE GAME SUR LES MALADIES RESPIRATOIRES CHEZ LES VEAUX \n11 juillet 2024 à 17h – amphi 1 Froget \nKALADJIAN Alexia  \nTITRE DE LA THESE : ETUDE PROSPECTIVE DES RESIDUS CYTOTOXIQUES ENGENDRES PAR LA CHIMIOTHERAPIE METRONOMIQUE CHEZ LE CHIEN ATTEINT DE CANCER \n12 juillet 2024 à 18h – amphi 1 Froget \nSAMMUT Morgane \nTITRE DE LA THESE : PERCEPTION DE L’ASSURANCE SANTE POUR ANIMAUX DE COMPAGNIE DANS LA PROFESSION VETERINAIRE EN FRANCE. ENQUETE AUPRES DE 260 PRATICIENS ET AUXILIAIRES DE SOINS VETERINAIRES \n17 juillet 2024 à 16h – amphi 1 Froget \nNGUYEN Léonore \nTITRE DE LA THESE : CONTRIBUTION A L’ETUDE DE L’HISTOIRE DE L’ASSOCIATION « COOPERATION ECHANGE VETERINAIRE EST OUEST » (CEVEO) DEPUIS SA CREATION ET ILLUSTRATION PAR L’ETUDE DE LA PRATIQUE VETERINAIRE AU VIETNAM A PARTIR D’UN TRAVAIL DE RECHERCHE OBSERVATIONNELLE \n18 juillet 2024 à 10h – amphi 1 Froget \nLEVRARD Théo  \nTITRE DE LA THESE : STRATÉGIE MARKETING DE MISE SUR LE MARCHÉ D’UN DISPOSITIF MÉDICAL DE DIAGNOSTIC IN VITRO DES MALADIES RESPIRATOIRES INFECTIEUSES ÉQUINES \n19 juillet 2024 à 10h30 – amphi 1 Froget \nRIOCREUX Sarah  \nTITRE DE LA THESE : INTERET ET FAISABILITE DE L’UTILISATON DE L’ECHOGRAPHIE POUR LE CONTRÔLE POSITIONNEL DE SONDES NASO-GASTRIQUES CHEZ DES ANIMAUX HOSPITALISES EN SOINS INTENSIFS \n26 juillet 2024 à 16h – amphi 1 Froget
URL:https://www.vetagro-sup.fr/evenement/soutenance-des-theses-juillet-2024-doctorat-veterinaire/
LOCATION:VetAgro Sup – campus vétérinaire\, 1 avenue Bourgelat\, Marcy l'Etoile\, 69280
ATTACH;FMTTYPE=image/jpeg:https://www.vetagro-sup.fr/wp-content/uploads/2022/07/soutenance_these-scaled.jpg
END:VEVENT
END:VCALENDAR