BEGIN:VCALENDAR
VERSION:2.0
PRODID:-//VetAgro Sup - ECPv6.15.20//NONSGML v1.0//EN
CALSCALE:GREGORIAN
METHOD:PUBLISH
X-WR-CALNAME:VetAgro Sup
X-ORIGINAL-URL:https://www.vetagro-sup.fr
X-WR-CALDESC:Évènements pour VetAgro Sup
REFRESH-INTERVAL;VALUE=DURATION:PT1H
X-Robots-Tag:noindex
X-PUBLISHED-TTL:PT1H
BEGIN:VTIMEZONE
TZID:Europe/Paris
BEGIN:DAYLIGHT
TZOFFSETFROM:+0100
TZOFFSETTO:+0200
TZNAME:CEST
DTSTART:20230326T010000
END:DAYLIGHT
BEGIN:STANDARD
TZOFFSETFROM:+0200
TZOFFSETTO:+0100
TZNAME:CET
DTSTART:20231029T010000
END:STANDARD
BEGIN:DAYLIGHT
TZOFFSETFROM:+0100
TZOFFSETTO:+0200
TZNAME:CEST
DTSTART:20240331T010000
END:DAYLIGHT
BEGIN:STANDARD
TZOFFSETFROM:+0200
TZOFFSETTO:+0100
TZNAME:CET
DTSTART:20241027T010000
END:STANDARD
BEGIN:DAYLIGHT
TZOFFSETFROM:+0100
TZOFFSETTO:+0200
TZNAME:CEST
DTSTART:20250330T010000
END:DAYLIGHT
BEGIN:STANDARD
TZOFFSETFROM:+0200
TZOFFSETTO:+0100
TZNAME:CET
DTSTART:20251026T010000
END:STANDARD
END:VTIMEZONE
BEGIN:VEVENT
DTSTART;VALUE=DATE:20240605
DTEND;VALUE=DATE:20240608
DTSTAMP:20260420T004504
CREATED:20240117T101528Z
LAST-MODIFIED:20240117T101645Z
UID:53550-1717545600-1717804799@www.vetagro-sup.fr
SUMMARY:Adaptation of mountain livestock farming to global change
DESCRIPTION:On behalf of the French Organising Committee\, we are very delighted to invite you to attend the Mountain Livestock Farming Systems Meeting co-organised by the European Federation of Animal Science (EAAP)\, VetAgro Sup and INRAE to be held in Clermont Ferrand\, the capital of the Auvergne\, from June 5th to 7th\, 2024. \nThe general topic of this Congress will be Adaptation of mountain livestock farming to climate change. Different sessions will be jointly organised to cover various areas of knowledge related to Interaction between farming systems and wildlife\, Product quality and mountain farming\, and several other topics. \n			\n						More informations\n					 \nLocal Organizers
URL:https://www.vetagro-sup.fr/evenement/adaptation-of-mountain-livestock-farming-to-global-change/
LOCATION:VetAgro Sup – campus agronomique\, 89 avenue de l'Europe\, Lempdes\, 63370\, France
CATEGORIES:Conference,Congrès
ATTACH;FMTTYPE=image/png:https://www.vetagro-sup.fr/wp-content/uploads/2024/01/Bandeau.png
END:VEVENT
END:VCALENDAR