BEGIN:VCALENDAR
VERSION:2.0
PRODID:-//VetAgro Sup - ECPv6.15.20//NONSGML v1.0//EN
CALSCALE:GREGORIAN
METHOD:PUBLISH
X-ORIGINAL-URL:https://www.vetagro-sup.fr
X-WR-CALDESC:Évènements pour VetAgro Sup
REFRESH-INTERVAL;VALUE=DURATION:PT1H
X-Robots-Tag:noindex
X-PUBLISHED-TTL:PT1H
BEGIN:VTIMEZONE
TZID:Europe/Paris
BEGIN:DAYLIGHT
TZOFFSETFROM:+0100
TZOFFSETTO:+0200
TZNAME:CEST
DTSTART:20230326T010000
END:DAYLIGHT
BEGIN:STANDARD
TZOFFSETFROM:+0200
TZOFFSETTO:+0100
TZNAME:CET
DTSTART:20231029T010000
END:STANDARD
BEGIN:DAYLIGHT
TZOFFSETFROM:+0100
TZOFFSETTO:+0200
TZNAME:CEST
DTSTART:20240331T010000
END:DAYLIGHT
BEGIN:STANDARD
TZOFFSETFROM:+0200
TZOFFSETTO:+0100
TZNAME:CET
DTSTART:20241027T010000
END:STANDARD
BEGIN:DAYLIGHT
TZOFFSETFROM:+0100
TZOFFSETTO:+0200
TZNAME:CEST
DTSTART:20250330T010000
END:DAYLIGHT
BEGIN:STANDARD
TZOFFSETFROM:+0200
TZOFFSETTO:+0100
TZNAME:CET
DTSTART:20251026T010000
END:STANDARD
END:VTIMEZONE
BEGIN:VEVENT
DTSTART;VALUE=DATE:20240513
DTEND;VALUE=DATE:20240518
DTSTAMP:20260420T024017
CREATED:20240426T121923Z
LAST-MODIFIED:20240619T152014Z
UID:54466-1715558400-1715990399@www.vetagro-sup.fr
SUMMARY:Webinaire franco-argentin du projet TANGOS - Transformation des agrosystèmes\, biodiversité et sécurité alimentaire
DESCRIPTION:Le webinaire du projet franco-argentin TANGOS – Transformation des agrosystèmes\, biodiversité et sécurité alimentaire – créé dans le cadre du programme ARFAGRI\, se déroulera du 13 au 17 mai 2024. \nProgramme détaillé : disponible ici. \nReplays des présentations : disponibles ici.
URL:https://www.vetagro-sup.fr/evenement/webinaire-franco-argentin-du-projet-tangos-transformation-des-agrosystemes-biodiversite-et-securite-alimentaire/
ATTACH;FMTTYPE=image/jpeg:https://www.vetagro-sup.fr/wp-content/uploads/2024/04/Flyer-Webinaire-francais.jpeg
END:VEVENT
BEGIN:VEVENT
DTSTART;TZID=Europe/Paris:20240517T130000
DTEND;TZID=Europe/Paris:20240517T170000
DTSTAMP:20260420T024017
CREATED:20240403T140208Z
LAST-MODIFIED:20240403T140208Z
UID:54304-1715950800-1715965200@www.vetagro-sup.fr
SUMMARY:Alternance Day : Agri - Agro
DESCRIPTION:« Alternance Day : Agri-Agro » est un évènement unique à destination des jeunes et des entreprises dans le but de favoriser les études supérieures en alternance\, dans les domaines de l’agriculture\, de l’agroalimentaire et de l’environnement. Conçue en partenariat avec VetAgro Sup\, l’APECITA et Ocapiat\, cette journée vise à rassembler les jeunes désireux de suivre une formation supérieure (bac +2 à bac+5) en alternance et les recruteurs\, pour faciliter la prise de contact. Fruit d’une collaboration entre établissement d’enseignement supérieur et de recherche\, organisme d’insertion à l’emploi et opérateur de compétences\, l’ambition « Alternance Day : Agri-Agro » est de tisser des relations durables avec le monde socio-économique\, d’émerger sur un réseau de professionnels de référence et de devenir un outil d’aide à la recherche d’alternance. \nEn savoir + : https://www.apecita.com/actualites/evenements/alternance-day-agri-agro
URL:https://www.vetagro-sup.fr/evenement/alternance-day-agri-agro-2/
LOCATION:VetAgro Sup – campus agronomique\, 89 avenue de l'Europe\, Lempdes\, 63370\, France
CATEGORIES:Salon
ATTACH;FMTTYPE=image/png:https://www.vetagro-sup.fr/wp-content/uploads/2024/04/Alternance-Day-2024.png
END:VEVENT
END:VCALENDAR