BEGIN:VCALENDAR
VERSION:2.0
PRODID:-//VetAgro Sup - ECPv6.15.20//NONSGML v1.0//EN
CALSCALE:GREGORIAN
METHOD:PUBLISH
X-WR-CALNAME:VetAgro Sup
X-ORIGINAL-URL:https://www.vetagro-sup.fr
X-WR-CALDESC:Évènements pour VetAgro Sup
REFRESH-INTERVAL;VALUE=DURATION:PT1H
X-Robots-Tag:noindex
X-PUBLISHED-TTL:PT1H
BEGIN:VTIMEZONE
TZID:Europe/Paris
BEGIN:DAYLIGHT
TZOFFSETFROM:+0100
TZOFFSETTO:+0200
TZNAME:CEST
DTSTART:20230326T010000
END:DAYLIGHT
BEGIN:STANDARD
TZOFFSETFROM:+0200
TZOFFSETTO:+0100
TZNAME:CET
DTSTART:20231029T010000
END:STANDARD
BEGIN:DAYLIGHT
TZOFFSETFROM:+0100
TZOFFSETTO:+0200
TZNAME:CEST
DTSTART:20240331T010000
END:DAYLIGHT
BEGIN:STANDARD
TZOFFSETFROM:+0200
TZOFFSETTO:+0100
TZNAME:CET
DTSTART:20241027T010000
END:STANDARD
BEGIN:DAYLIGHT
TZOFFSETFROM:+0100
TZOFFSETTO:+0200
TZNAME:CEST
DTSTART:20250330T010000
END:DAYLIGHT
BEGIN:STANDARD
TZOFFSETFROM:+0200
TZOFFSETTO:+0100
TZNAME:CET
DTSTART:20251026T010000
END:STANDARD
END:VTIMEZONE
BEGIN:VEVENT
DTSTART;VALUE=DATE:20240220
DTEND;VALUE=DATE:20240224
DTSTAMP:20260420T075557
CREATED:20240613T125220Z
LAST-MODIFIED:20240613T125220Z
UID:54916-1708387200-1708732799@www.vetagro-sup.fr
SUMMARY:Soutenances de thèses - Février - Doctorat vétérinaire
DESCRIPTION:ASTAROTTA Luca \n\nTitre de la thèse : BIOMECANIQUE DU PIED DE BOVIN : ETAT DES CONNAISSANCES EN VUE DE LA REALISATION DE MODELES DESTINES A L’ENSEIGNEMENT\n20/02/2024 à 16h00 – salle Chauveau à VetAgro Sup\n\n  \nGAU Romane \n\nTitre de la thèse : CONTAMINATION DES INUITS AU MERCURE PAR LA CHAINE TROPHIQUE DES PHOQUES\n23/02/2024 à 16h00 – salle Chauveau à VetAgro Sup
URL:https://www.vetagro-sup.fr/evenement/soutenances-de-theses-fevrier-doctorat-veterinaire/
LOCATION:VetAgro Sup – campus vétérinaire\, 1 avenue Bourgelat\, Marcy l'Etoile\, 69280
ATTACH;FMTTYPE=image/jpeg:https://www.vetagro-sup.fr/wp-content/uploads/2022/07/soutenance_these-scaled.jpg
END:VEVENT
END:VCALENDAR