BEGIN:VCALENDAR
VERSION:2.0
PRODID:-//VetAgro Sup - ECPv6.15.20//NONSGML v1.0//EN
CALSCALE:GREGORIAN
METHOD:PUBLISH
X-ORIGINAL-URL:https://www.vetagro-sup.fr
X-WR-CALDESC:Évènements pour VetAgro Sup
REFRESH-INTERVAL;VALUE=DURATION:PT1H
X-Robots-Tag:noindex
X-PUBLISHED-TTL:PT1H
BEGIN:VTIMEZONE
TZID:Europe/Paris
BEGIN:DAYLIGHT
TZOFFSETFROM:+0100
TZOFFSETTO:+0200
TZNAME:CEST
DTSTART:20230326T010000
END:DAYLIGHT
BEGIN:STANDARD
TZOFFSETFROM:+0200
TZOFFSETTO:+0100
TZNAME:CET
DTSTART:20231029T010000
END:STANDARD
BEGIN:DAYLIGHT
TZOFFSETFROM:+0100
TZOFFSETTO:+0200
TZNAME:CEST
DTSTART:20240331T010000
END:DAYLIGHT
BEGIN:STANDARD
TZOFFSETFROM:+0200
TZOFFSETTO:+0100
TZNAME:CET
DTSTART:20241027T010000
END:STANDARD
BEGIN:DAYLIGHT
TZOFFSETFROM:+0100
TZOFFSETTO:+0200
TZNAME:CEST
DTSTART:20250330T010000
END:DAYLIGHT
BEGIN:STANDARD
TZOFFSETFROM:+0200
TZOFFSETTO:+0100
TZNAME:CET
DTSTART:20251026T010000
END:STANDARD
END:VTIMEZONE
BEGIN:VEVENT
DTSTART;TZID=Europe/Paris:20240210T093000
DTEND;TZID=Europe/Paris:20240210T123000
DTSTAMP:20260420T075809
CREATED:20231128T132248Z
LAST-MODIFIED:20240226T132012Z
UID:53237-1707557400-1707568200@www.vetagro-sup.fr
SUMMARY:Journée portes ouvertes du campus agronomique
DESCRIPTION:Une journée portes ouvertes est organisée le samedi 10 février de 9h30 à 12h30. \nDurant cette matinée\, nous vous proposons : \n\nun espace d’échanges au sujet de la formation d’ingénieur agronome : conditions d’admission\, concours d’entrée\, contenu de la formation\, spécialisations\, débouchés etc.\nstands des formations co-accréditées  : licence pro « Agriculture Biologique : Conseil & Développement\, Master GLOQUAL …\nrencontre avec des étudiants : témoignage sur la vie de campus (vie associative\, résidence étudiante\, restauration…)\nvisite du campus agronomique\n\nDes étudiants vétérinaires seront également présents pour répondre aux éventuelles questions des visiteurs (en attente confirmation). \nLe campus agronomique est dédié à la formation des ingénieurs agronomes et se situe à Lempdes (63) près de Clermont-Ferrand.
URL:https://www.vetagro-sup.fr/evenement/journees-portes-ouvertes-du-campus-agronomique/
LOCATION:VetAgro Sup – campus agronomique\, 89 avenue de l'Europe\, Lempdes\, 63370\, France
CATEGORIES:Salon
ATTACH;FMTTYPE=image/jpeg:https://www.vetagro-sup.fr/wp-content/uploads/2023/02/banniere_web_journee_portes_ouvertes_2024-scaled.jpg
END:VEVENT
END:VCALENDAR