BEGIN:VCALENDAR
VERSION:2.0
PRODID:-//VetAgro Sup - ECPv6.15.20//NONSGML v1.0//EN
CALSCALE:GREGORIAN
METHOD:PUBLISH
X-WR-CALNAME:VetAgro Sup
X-ORIGINAL-URL:https://www.vetagro-sup.fr
X-WR-CALDESC:Évènements pour VetAgro Sup
REFRESH-INTERVAL;VALUE=DURATION:PT1H
X-Robots-Tag:noindex
X-PUBLISHED-TTL:PT1H
BEGIN:VTIMEZONE
TZID:Europe/Paris
BEGIN:DAYLIGHT
TZOFFSETFROM:+0100
TZOFFSETTO:+0200
TZNAME:CEST
DTSTART:20230326T010000
END:DAYLIGHT
BEGIN:STANDARD
TZOFFSETFROM:+0200
TZOFFSETTO:+0100
TZNAME:CET
DTSTART:20231029T010000
END:STANDARD
BEGIN:DAYLIGHT
TZOFFSETFROM:+0100
TZOFFSETTO:+0200
TZNAME:CEST
DTSTART:20240331T010000
END:DAYLIGHT
BEGIN:STANDARD
TZOFFSETFROM:+0200
TZOFFSETTO:+0100
TZNAME:CET
DTSTART:20241027T010000
END:STANDARD
BEGIN:DAYLIGHT
TZOFFSETFROM:+0100
TZOFFSETTO:+0200
TZNAME:CEST
DTSTART:20250330T010000
END:DAYLIGHT
BEGIN:STANDARD
TZOFFSETFROM:+0200
TZOFFSETTO:+0100
TZNAME:CET
DTSTART:20251026T010000
END:STANDARD
END:VTIMEZONE
BEGIN:VEVENT
DTSTART;TZID=Europe/Paris:20240118T090000
DTEND;TZID=Europe/Paris:20240120T170000
DTSTAMP:20260420T092505
CREATED:20231128T131602Z
LAST-MODIFIED:20231128T131602Z
UID:53225-1705568400-1705770000@www.vetagro-sup.fr
SUMMARY:Salon Auversup
DESCRIPTION:Du 18 au 20 janvier 2024\, VetAgro Sup sera présent sur le salon Auversup à la Grande Halle d’Auvergne. \nVenez nous rencontrer sur notre stand et découvrir nos offres de formations ! \nEn savoir + : https://www.auversup.fr/
URL:https://www.vetagro-sup.fr/evenement/salon-auversup-2024/
LOCATION:Grande Halle d’Auvergne\, Plaine de sarliève\, Cournon d'Auvergne\, 63808\, France
CATEGORIES:Salon
ATTACH;FMTTYPE=image/png:https://www.vetagro-sup.fr/wp-content/uploads/2023/11/1240x640-AuverSup-2024.png
END:VEVENT
END:VCALENDAR