BEGIN:VCALENDAR
VERSION:2.0
PRODID:-//VetAgro Sup - ECPv6.15.20//NONSGML v1.0//EN
CALSCALE:GREGORIAN
METHOD:PUBLISH
X-ORIGINAL-URL:https://www.vetagro-sup.fr
X-WR-CALDESC:Évènements pour VetAgro Sup
REFRESH-INTERVAL;VALUE=DURATION:PT1H
X-Robots-Tag:noindex
X-PUBLISHED-TTL:PT1H
BEGIN:VTIMEZONE
TZID:Europe/Paris
BEGIN:DAYLIGHT
TZOFFSETFROM:+0100
TZOFFSETTO:+0200
TZNAME:CEST
DTSTART:20220327T010000
END:DAYLIGHT
BEGIN:STANDARD
TZOFFSETFROM:+0200
TZOFFSETTO:+0100
TZNAME:CET
DTSTART:20221030T010000
END:STANDARD
BEGIN:DAYLIGHT
TZOFFSETFROM:+0100
TZOFFSETTO:+0200
TZNAME:CEST
DTSTART:20230326T010000
END:DAYLIGHT
BEGIN:STANDARD
TZOFFSETFROM:+0200
TZOFFSETTO:+0100
TZNAME:CET
DTSTART:20231029T010000
END:STANDARD
BEGIN:DAYLIGHT
TZOFFSETFROM:+0100
TZOFFSETTO:+0200
TZNAME:CEST
DTSTART:20240331T010000
END:DAYLIGHT
BEGIN:STANDARD
TZOFFSETFROM:+0200
TZOFFSETTO:+0100
TZNAME:CET
DTSTART:20241027T010000
END:STANDARD
END:VTIMEZONE
BEGIN:VEVENT
DTSTART;TZID=Europe/Paris:20231201T080000
DTEND;TZID=Europe/Paris:20231215T170000
DTSTAMP:20260420T110032
CREATED:20231128T095102Z
LAST-MODIFIED:20231128T095102Z
UID:53219-1701417600-1702659600@www.vetagro-sup.fr
SUMMARY:Soutenances de thèse Décembre - Doctorat vétérinaire
DESCRIPTION:RYON-SERRIER Jenny \nTITRE DE LA THESE : Les problématiques liées à la première mise-bas chez les éléphantes d’Asie et d’Afrique en captivité \n01/12/2023 – 14h – Amphi 1 Froget \n  \nLOIZON Hélène \nTITRE DE LA THESE : Babésiose bovine : tour d’horizon et clefs de détection \n01/12/2023 – 15h – Amphi 1 Froget \n  \nDE GEVIGNEY Léopold \nTITRE DE LA THESE : Babésiose canine en France\, étude clinique et efficacité de la vaccination \n01/12/2023 – 17h – Amphi 1 Froget \n  \nDELOOF Anouk \nTITRE DE LA THESE : L’insuffisance rénale aigue chez le cheval adulte : synthèse bibliographique et étude rétrospective des cas traites a la Clinéquine entre 2018 et 2023 \n07/12/2023 – 17h – Amphi 1 Froget \n  \nTOURLONNIAS Céline \nTITRE DE LA THESE : Importance de la compréhension de la communication acoustique et du comportement des hippopotames (Hippopotamus amphibius) dans les conflits entre les hippopotames sauvages et les hommes\, et création d’une banque de vocalisations d’individus de parcs zoologiques français \n08/12/2023 – 14h – Amphi 1 Froget \n  \nLENNE-LACOMBE Ysaline \nTITRE DE LA THESE : La gabapentine chez le chien et le chat : intérêts et recommandations pour son utilisation \n08/12/2023 – 15h – Amphi 1 Froget \n  \nCHAPELLE Amandine \nTITRE DE LA THESE : Mesure de l’activité du système nerveux autonome pour l’évaluation de la compensation hémodynamique lors de choc hémorragique : étude expérimentale sur le modèle porcin \n08/12/2023 – 16h – Amphi 1 Froget \n  \nGAILLET Oriane \nTITRE DE LA THESE : Création d’une nomenclature codifiée des robes de chiens \n08/12/2023 – 17h – Amphi 1 Froget \n  \nCHAMBON Caroline \nTITRE DE LA THESE : Etude de l’espérance de vie des chiens et des chats en France entre 2003 et 2020\, et influence des conditions socio-économiques des propriétaires \n11/12/2023 – 16h – Amphi 1 Froget \n  \nALKAN Ana \nTITRE DE LA THESE : Médecine vétérinaire solidaire – stratégie et plan d’actions pour faciliter l’accès aux soins des animaux de personnes démunies et/ou sans-abri : le projet Balto \n11/12/2023 – 17h – Amphi 1 Froget \n  \nLAJOIE Mathilde \nTITRE DE LA THESE : Vade mecum sur la prévention et l’accompagnement des principales affections du chien et du chat via l’alimentation\, à destination des vétérinaires \n12/12/2023 – 17h – Amphi 1 Froget \n  \nVECCHIO Marie-Amélie \nTITRE DE LA THESE : Impacts environnementaux des médicaments de la famille des avermectines et assimilées \n13/12/2023 – 16h – Amphi 1 Froget \n  \nRICHARD Chloé \nTITRE DE LA THESE : Actualité en dermatologie des poissons \n14/12/2023 – 14h30 – Amphi 3 \n  \nMARTIN Chantal \nTITRE DE LA THESE : La place de l’antibiothérapie dans la prise en charge des pyodermites du chien : étude rétrospective à VetAgro Sup entre 2018 et 2022 \n14/12/2023 – 14h30 – Amphi 3 \n  \nPLET Audrey \nTITRE DE LA THESE : Etude rétrospective de la fréquence et de l’évolution de l’antibiorésistance de Staphylococcus spp. et Pseudomonas aeruginosa dans les infections cutanées et les otites du chien et du cheval\, de 2018 à 2022\, et perspectives thérapeutiques \n14/12/2023 – 17h – Amphi 1 Froget \n  \nCIOBANU Sanda \nTITRE DE LA THESE : Hématologie de cincles plongeurs: intervalles de référence de la formule leucocytaire\, réalisation d’un atlas \n14/12/2023 – 14h – Salle Chauveau \n  \nNESPOLA Margaux \nTITRE DE LA THESE : Panels de tests génétiques canins et félins \n14/12/2023 – 15h – Salle Chauveau \n  \nGONZALEZ Clara \nTITRE DE LA THESE : Analyse de l’admission et de la mortalité des hérissons d’Europe au centre de soins de la faune sauvage l’hirondelle et amélioration de leur prise en charge \n14/12/2023 – 16h – Salle Chauveau \n  \nRIVET Adelaïde \nTITRE DE LA THESE : Couleur de la robe chez le cheval Henson : corrélation génotype-phénotype et gestion des accouplements \n14/12/2023 – 14h – Amphi 1 Froget \n  \nDA ROCHA Charlotte \nTITRE DE LA THESE : Impact environnemental et pour la santé humaine des antiparasitaires externes des carnivores domestiques : Application en médecine préventive \n14/12/2023 – 15h – Amphi 1 Froget \n  \nPERRET-THIRY \nTITRE DE LA THESE : Biochimie et hématologie comparées des élasmobranches\, création d’un atlas hématologique \n14/12/2023 – 16h – Amphi 1 Froget \n  \nPIGNET Margot \nTITRE DE LA THESE : Actualités sur l’épidémiologie et la prise en charge de la maladie virale hémorragique du lapin (O. Cuniculus) en France : étude rétrospective de 41 cas suivis en clinique vétérinaire entre 2018 et 2023 \n14/12/2023 – 17h – Salle Chauveau \n  \nETERRADOSSI Julia \nTITRE DE LA THESE : Identification immunohistochimique des populations lymphocytaires des tumeurs mammaires simples de la chienne \n14/12/2023 – 18h – Amphi 1 Froget \n  \nBLANC Louise \nTITRE DE LA THESE : Le syndrôme néphrotique du chien : synthèse bibliographique et étude des cas rencontrés au Chuvac de Vetagro Sup de 2008 à 2022 \n15/12/2023 – 14h – Amphi 1 Froget \n  \nSILVERT Maryon \nTITRE DE LA THESE : Regards croisés sur la pratique vétérinaire canine – entre héritage historique et problématiques actuelles objectivées au travers d’entretiens semi-structurés \n15/12/2023 – 14h – Salle Chauveau \n  \nARNIAUD Mathilde \nTITRE DE LA THESE : Evaluation de la couverture des besoins en minéraux et réalisation d’une complémentation par pierres à sels de fabrication locale chez les troupeaux de bovins de la chefferie de Musungwa\, district d’Itezhi Tezhi en Zambie \n15/12/2023 – 14h – Amphi 3 \n  \nMELLINGER Manon \nTITRE DE LA THESE : Le lymphôme chez le cheval : analyse rétrospective des signes cliniques rencontrés à la clinéquine et état des lieux des méthodes de diagnostic et de traitement actuelles \n15/12/2023 – 15h – Amphi 1 Froget \n  \nMARC Johanna \nTITRE DE LA THESE : Vétérinaires de la faune sauvage non captive – enquête nationale auprès des vétérinaires ayant une activité en faune sauvage non captive \n15/12/2023 – 16h – Amphi 1 Froget \n  \nSZYBA Vianney \nTITRE DE LA THESE : Caractérisation des stéréoisomères du Brodifacoum : élimination et efficacité\, vers moins d’écotoxicité \n15/12/2023 – 17h – Amphi 1 Froget \n  \nTROUVAY Victoire \nTITRE DE LA THESE : Encourager et favoriser l’adoption des chiens placés en refuge : Quelle(s) stratégie(s) ? \n15/12/2023 – 15h -Salle Chauveau \n  \nSOUBESTE Juliette \nTITRE DE LA THESE : Apport d’une approche philosophique dans la définition de la place actuelle du vétérinaire dans la société \n15/12/2023 – 16h -Salle Chauveau \n 
URL:https://www.vetagro-sup.fr/evenement/soutenances-de-these-decembre-doctorat-veterinaire/
LOCATION:VetAgro Sup – campus vétérinaire\, 1 avenue Bourgelat\, Marcy l'Etoile\, 69280
CATEGORIES:Conference
ATTACH;FMTTYPE=image/jpeg:https://www.vetagro-sup.fr/wp-content/uploads/2022/07/soutenance_these-scaled.jpg
END:VEVENT
END:VCALENDAR