BEGIN:VCALENDAR
VERSION:2.0
PRODID:-//VetAgro Sup - ECPv6.15.20//NONSGML v1.0//EN
CALSCALE:GREGORIAN
METHOD:PUBLISH
X-WR-CALNAME:VetAgro Sup
X-ORIGINAL-URL:https://www.vetagro-sup.fr
X-WR-CALDESC:Évènements pour VetAgro Sup
REFRESH-INTERVAL;VALUE=DURATION:PT1H
X-Robots-Tag:noindex
X-PUBLISHED-TTL:PT1H
BEGIN:VTIMEZONE
TZID:Europe/Paris
BEGIN:DAYLIGHT
TZOFFSETFROM:+0100
TZOFFSETTO:+0200
TZNAME:CEST
DTSTART:20220327T010000
END:DAYLIGHT
BEGIN:STANDARD
TZOFFSETFROM:+0200
TZOFFSETTO:+0100
TZNAME:CET
DTSTART:20221030T010000
END:STANDARD
BEGIN:DAYLIGHT
TZOFFSETFROM:+0100
TZOFFSETTO:+0200
TZNAME:CEST
DTSTART:20230326T010000
END:DAYLIGHT
BEGIN:STANDARD
TZOFFSETFROM:+0200
TZOFFSETTO:+0100
TZNAME:CET
DTSTART:20231029T010000
END:STANDARD
BEGIN:DAYLIGHT
TZOFFSETFROM:+0100
TZOFFSETTO:+0200
TZNAME:CEST
DTSTART:20240331T010000
END:DAYLIGHT
BEGIN:STANDARD
TZOFFSETFROM:+0200
TZOFFSETTO:+0100
TZNAME:CET
DTSTART:20241027T010000
END:STANDARD
END:VTIMEZONE
BEGIN:VEVENT
DTSTART;VALUE=DATE:20231130
DTEND;VALUE=DATE:20231203
DTSTAMP:20260420T105521
CREATED:20231130T135549Z
LAST-MODIFIED:20231130T135640Z
UID:53251-1701302400-1701561599@www.vetagro-sup.fr
SUMMARY:AFVAC
DESCRIPTION:Les Écoles nationales vétérinaires de France vous donnent rendez-vous au congrès national de l’AFVAC 2023 du 30 novembre au 2 décembre à Lille Grand Palais ! Au programme : Échange avec des professionnels\, vétérinaires\, éleveurs\, cliniciens ou praticiens… Découverte de nos actions communes et transversales : formations continues\, internats\, centres hospitaliers universitaires vétérinaires Démonstration de #StageVet En savoir plus sur l’AFVAC : https://afvac.com/ 
URL:https://www.vetagro-sup.fr/evenement/afvac/
LOCATION:Lille
ATTACH;FMTTYPE=image/jpeg:https://www.vetagro-sup.fr/wp-content/uploads/2023/11/2023_Gabarits_INTER_ENV_FB_AFVAC2-scaled.jpg
END:VEVENT
END:VCALENDAR