BEGIN:VCALENDAR
VERSION:2.0
PRODID:-//VetAgro Sup - ECPv6.15.20//NONSGML v1.0//EN
CALSCALE:GREGORIAN
METHOD:PUBLISH
X-ORIGINAL-URL:https://www.vetagro-sup.fr
X-WR-CALDESC:Évènements pour VetAgro Sup
REFRESH-INTERVAL;VALUE=DURATION:PT1H
X-Robots-Tag:noindex
X-PUBLISHED-TTL:PT1H
BEGIN:VTIMEZONE
TZID:Europe/Paris
BEGIN:DAYLIGHT
TZOFFSETFROM:+0100
TZOFFSETTO:+0200
TZNAME:CEST
DTSTART:20220327T010000
END:DAYLIGHT
BEGIN:STANDARD
TZOFFSETFROM:+0200
TZOFFSETTO:+0100
TZNAME:CET
DTSTART:20221030T010000
END:STANDARD
BEGIN:DAYLIGHT
TZOFFSETFROM:+0100
TZOFFSETTO:+0200
TZNAME:CEST
DTSTART:20230326T010000
END:DAYLIGHT
BEGIN:STANDARD
TZOFFSETFROM:+0200
TZOFFSETTO:+0100
TZNAME:CET
DTSTART:20231029T010000
END:STANDARD
BEGIN:DAYLIGHT
TZOFFSETFROM:+0100
TZOFFSETTO:+0200
TZNAME:CEST
DTSTART:20240331T010000
END:DAYLIGHT
BEGIN:STANDARD
TZOFFSETFROM:+0200
TZOFFSETTO:+0100
TZNAME:CET
DTSTART:20241027T010000
END:STANDARD
END:VTIMEZONE
BEGIN:VEVENT
DTSTART;TZID=Europe/Paris:20231125T093000
DTEND;TZID=Europe/Paris:20231125T170000
DTSTAMP:20260420T122226
CREATED:20231107T092358Z
LAST-MODIFIED:20231114T130306Z
UID:52816-1700904600-1700931600@www.vetagro-sup.fr
SUMMARY:Forum des formations agronomiques 2023
DESCRIPTION:Dans le cadre du forum des formations agronomiques\, VetAgro Sup propose aux futurs étudiants de découvrir les opportunités offertes par la formation d’ingénieur agronome et la licence professionnelle « Agriculture Biologique : Conseil & Développement ». \nGrâce aux divers enseignants\, personnels et étudiants à votre disposition sur cette journée\, vous pourrez découvrir en détail le campus agronomique et découvrir les multiples débouchés de nos formations. Les conférences et témoignages en live vous permettront de poser directement vos questions à nos intervenants. \nLe forum des formations agronomiques 2023 a lieu entièrement en virtuel\, aucun public ne sera accueilli sur le campus. \nProgramme \n9h30 à 10h45 : Le cursus d’ingénieur agronome \n10h50 à 11h20 : La vie sur le campus agronomique \n11h30 à 12h00 : La Licence professionnelle Agriculture Biologique : Conseil & Développement \nPAUSE \n13h00 à 13h30 : L’ingénieur agronome en sciences animales \n13h45 à 14h15 : L’ingénieur agronome en agroalimentaire \n14h30 à 15h00 : L’ingénieur agronome en management commercial et marketing \n15h15 à 15h45 : L’ingénieur agronome en santé globale \nDe 16h00 à 16h30 : L’ingénieur en sciences végétales \nDe 16h45 à 17h15 : L’ingénieur en développement territorial \n			\n						S’inscrire\n					 \nClôture des inscriptions le jeudi 23 novembre à 18h \nVous recevrez les liens des conférences par mail le vendredi 24 novembre avant 18h. Pensez à vérifier vos spams.
URL:https://www.vetagro-sup.fr/evenement/forum-des-formations-agronomiques-2023/
CATEGORIES:Conference
ATTACH;FMTTYPE=image/png:https://www.vetagro-sup.fr/wp-content/uploads/2023/11/2023_Visuel_Forum_Formations_agro.png
END:VEVENT
END:VCALENDAR