BEGIN:VCALENDAR
VERSION:2.0
PRODID:-//VetAgro Sup - ECPv6.15.20//NONSGML v1.0//EN
CALSCALE:GREGORIAN
METHOD:PUBLISH
X-WR-CALNAME:VetAgro Sup
X-ORIGINAL-URL:https://www.vetagro-sup.fr
X-WR-CALDESC:Évènements pour VetAgro Sup
REFRESH-INTERVAL;VALUE=DURATION:PT1H
X-Robots-Tag:noindex
X-PUBLISHED-TTL:PT1H
BEGIN:VTIMEZONE
TZID:Europe/Paris
BEGIN:DAYLIGHT
TZOFFSETFROM:+0100
TZOFFSETTO:+0200
TZNAME:CEST
DTSTART:20220327T010000
END:DAYLIGHT
BEGIN:STANDARD
TZOFFSETFROM:+0200
TZOFFSETTO:+0100
TZNAME:CET
DTSTART:20221030T010000
END:STANDARD
BEGIN:DAYLIGHT
TZOFFSETFROM:+0100
TZOFFSETTO:+0200
TZNAME:CEST
DTSTART:20230326T010000
END:DAYLIGHT
BEGIN:STANDARD
TZOFFSETFROM:+0200
TZOFFSETTO:+0100
TZNAME:CET
DTSTART:20231029T010000
END:STANDARD
BEGIN:DAYLIGHT
TZOFFSETFROM:+0100
TZOFFSETTO:+0200
TZNAME:CEST
DTSTART:20240331T010000
END:DAYLIGHT
BEGIN:STANDARD
TZOFFSETFROM:+0200
TZOFFSETTO:+0100
TZNAME:CET
DTSTART:20241027T010000
END:STANDARD
END:VTIMEZONE
BEGIN:VEVENT
DTSTART;TZID=Europe/Paris:20231001T080000
DTEND;TZID=Europe/Paris:20231013T170000
DTSTAMP:20260420T135240
CREATED:20231002T103638Z
LAST-MODIFIED:20231002T103638Z
UID:52511-1696147200-1697216400@www.vetagro-sup.fr
SUMMARY:Soutenances de thèses - Octobre | Doctorat Vétérinaire
DESCRIPTION:DI PASQUALE Loriane \nTITRE DE LA THESE :\nÉtude descriptive de la dermatologie vétérinaire canine en France : prevalence\, prise en charge\, attentes \n06/10/2023 – 14h – VETAGRO SUP\, Amphi 1 Froget \n  \nMILLARD Julie \nTITRE DE LA THESE :\nEtat des connaissances sur l’allergie alimentaire chez l’Homme et chez le chien \n06/10/2023 – 15h – VETAGRO SUP\, Amphi 1 Froget \n  \nBARSAMIAN Solène \nTITRE DE LA THESE :\nÉvolution de la prise de conscience de la conscience des animaux état de l’art sur la perception du monde par les animaux \n06/10/2023 – 16h – VETAGRO SUP\, Amphi 1 Froget \n  \nSICARD Marine \nTITRE DE LA THESE :\nLes syndromes inflamatoires cutanés félins : étude retrospective à Vetagro Sup de 2015 à 2021 \n06/10/2023 – 16h – VETAGRO SUP\, Salle Chauveau \n  \nMAUNOURRI Alexandrine \nTITRE DE LA THESE :\nPorter un projet dans un monde vétérinaire en pleine réorganisation : le défi de rester attractif en vue de l’évolution d’un centre hospitalier vétérinaire à Marseille \n06/10/2023 – 17h – VETAGRO SUP\, Salle Chauveau \n  \nBESSON Eloïse \nTITRE DE LA THESE :\nLe porc comme modèle pré-clinique immunologique. L’évaluation du potentiel immunologique dans le sepsis \n06/10/2023 – 18h – VETAGRO SUP\, Amphi 1 Froget \n  \nBRUNNER Florine \nTITRE DE LA THESE :\nLa règlementation de l’Union Européenne pour la lutte contre les salmonelles en élevage de poules pondeuses : enquête de terrain sur les modalités d’application\, les enjeux de santé publique et leur perception par différents acteurs de la filière en France et en Allemagne \n06/10/2023 – 18h – VETAGRO SUP\, Salle Chauveau \n  \nBERTHEZENE Diane \nTITRE DE LA THESE :\nÉducation thérapeutique destinée aux propriétaires de chien atteint de maladie valvulaire dégénérative mitrale et de chats atteints de cardiomyopathie hypertrophique \n12/10/2023 – 15h – VETAGRO SUP\, Amphi 1 Froget \n  \nVINCART Aurélien \nTITRE DE LA THESE :\nComparaison biomécanique de deux systèmes de fixation d’un ligament artificiel intra-articulaire dans le traitement du ligament croisé crânial chez le chien \n12/10/2023 – 16h – VETAGRO SUP\, Amphi 1 Froget \n  \nCREVOISIER Anne-Sophie \nTITRE DE LA THESE :\nÉpidémiologie et prévalence de l’instabilité en rotation du grasset chez le chien lors de rupture du ligament croisé crânial : étude rétrospective chez 162 cas \n12/10/2023 – 17h – VETAGRO SUP\, Amphi 1 Froget \n  \nGAGNAIRE Zoé \nTITRE DE LA THESE :\nImpact d’une maladie chronique d’un chien ou d’un chat sur la qualité de vie de son propriétaire \n13/10/2023 – 14h – VETAGRO SUP\, Salle Chauveau \n  \nKESSAL Karine \nTITRE DE LA THESE :\nEnquête qualitative sur l’identité professionnelle vétérinaire : une réconciliation intergénérationelle possible ? \n13/10/2023 – 14h – VETAGRO SUP\, Amphi 3 \n  \nCHABÉ Cloé \nTITRE DE LA THESE :\nLes affections de l’oesophage chez le chien : étude rétrospective des cas vus au CHUVAC de VetAgro Sup de 2015 à 2022 \n13/10/2023 – 15h – VETAGRO SUP\, Amphi 3 \n  \nDOUET Alexis \nTITRE DE LA THESE :\nMise au point et valorisation d’un modèle de simulation de l’appareil génital mâle ovin \n13/10/2023 – 15h – VETAGRO SUP\, Salle Chauveau \n  \nGARCIN Remy \nTITRE DE LA THESE :\nLa responsabilité sociétale des entreprises de soins vétérinaires : pratiques et modalités d’appropriation \n13/10/2023 – 15h – VETAGRO SUP\, Amphi 2 \n  \nAMIEL Léa \nTITRE DE LA THESE :\nRupture du tendon prépublien chez la jument au cours de la gestation : étude bibliographique et étude rétrospective des facteurs de risque\, du poulinage et du post poulinage (30 cas) \n13/10/2023 – 16h – VETAGRO SUP\, Amphi 3 \n  \nPERRODIN Pauline \nTITRE DE LA THESE :\nCréation d’un modèle de simulation pour l’apprentissage de la césarienne chez la vache \n13/10/2023 – 16h – VETAGRO SUP\, Salle Chauveau \n  \nGIULI Constant \nTITRE DE LA THESE :\nContribution à l’évaluation de l’exposition des bovins au virus de la fièvre hémorragique de Crimée-Congo en France \n13/10/2023 – 17h – VETAGRO SUP\, Salle Chauveau \n  \nMARRA Clélia \nTITRE DE LA THESE :\nAliments industriels physiologiques pour chiens et chats : analyse du crédit accordé aux informations fournies par le fabricant et à l’équilibre global de l’aliment\, grâce à l’élaboration d’une grille d’évaluation de la créance \n13/10/2023 – 17h – VETAGRO SUP\, Amphi 3 \n  \nAMAT Margaux \nTITRE DE LA THESE :\nElectrophorèse des protéines sériques suivies d’une immunofixation\, un outil diagnostic pour les maladies inflammatoires digestives chroniques du chat ? \n13/10/2023 – 18h – VETAGRO SUP\, Salle Chauveau \n  \nMAITRET Nicolas \nTITRE DE LA THESE :\nLe secourisme opérationnel des chiens des forces : état des lieux de la cynotechnie et impériosité de nouvelles formations du service de santé des armées \n13/10/2023 – 18h – VETAGRO SUP\, Amphi 3
URL:https://www.vetagro-sup.fr/evenement/soutenances-de-theses-octobre-doctorat-veterinaire/
ATTACH;FMTTYPE=image/jpeg:https://www.vetagro-sup.fr/wp-content/uploads/2022/07/soutenance_these-scaled.jpg
END:VEVENT
END:VCALENDAR