BEGIN:VCALENDAR
VERSION:2.0
PRODID:-//VetAgro Sup - ECPv6.15.20//NONSGML v1.0//EN
CALSCALE:GREGORIAN
METHOD:PUBLISH
X-ORIGINAL-URL:https://www.vetagro-sup.fr
X-WR-CALDESC:Évènements pour VetAgro Sup
REFRESH-INTERVAL;VALUE=DURATION:PT1H
X-Robots-Tag:noindex
X-PUBLISHED-TTL:PT1H
BEGIN:VTIMEZONE
TZID:Europe/Paris
BEGIN:DAYLIGHT
TZOFFSETFROM:+0100
TZOFFSETTO:+0200
TZNAME:CEST
DTSTART:20220327T010000
END:DAYLIGHT
BEGIN:STANDARD
TZOFFSETFROM:+0200
TZOFFSETTO:+0100
TZNAME:CET
DTSTART:20221030T010000
END:STANDARD
BEGIN:DAYLIGHT
TZOFFSETFROM:+0100
TZOFFSETTO:+0200
TZNAME:CEST
DTSTART:20230326T010000
END:DAYLIGHT
BEGIN:STANDARD
TZOFFSETFROM:+0200
TZOFFSETTO:+0100
TZNAME:CET
DTSTART:20231029T010000
END:STANDARD
BEGIN:DAYLIGHT
TZOFFSETFROM:+0100
TZOFFSETTO:+0200
TZNAME:CEST
DTSTART:20240331T010000
END:DAYLIGHT
BEGIN:STANDARD
TZOFFSETFROM:+0200
TZOFFSETTO:+0100
TZNAME:CET
DTSTART:20241027T010000
END:STANDARD
END:VTIMEZONE
BEGIN:VEVENT
DTSTART;TZID=Europe/Paris:20231001T080000
DTEND;TZID=Europe/Paris:20231013T170000
DTSTAMP:20260420T135450
CREATED:20231002T103638Z
LAST-MODIFIED:20231002T103638Z
UID:52511-1696147200-1697216400@www.vetagro-sup.fr
SUMMARY:Soutenances de thèses - Octobre | Doctorat Vétérinaire
DESCRIPTION:DI PASQUALE Loriane \nTITRE DE LA THESE :\nÉtude descriptive de la dermatologie vétérinaire canine en France : prevalence\, prise en charge\, attentes \n06/10/2023 – 14h – VETAGRO SUP\, Amphi 1 Froget \n  \nMILLARD Julie \nTITRE DE LA THESE :\nEtat des connaissances sur l’allergie alimentaire chez l’Homme et chez le chien \n06/10/2023 – 15h – VETAGRO SUP\, Amphi 1 Froget \n  \nBARSAMIAN Solène \nTITRE DE LA THESE :\nÉvolution de la prise de conscience de la conscience des animaux état de l’art sur la perception du monde par les animaux \n06/10/2023 – 16h – VETAGRO SUP\, Amphi 1 Froget \n  \nSICARD Marine \nTITRE DE LA THESE :\nLes syndromes inflamatoires cutanés félins : étude retrospective à Vetagro Sup de 2015 à 2021 \n06/10/2023 – 16h – VETAGRO SUP\, Salle Chauveau \n  \nMAUNOURRI Alexandrine \nTITRE DE LA THESE :\nPorter un projet dans un monde vétérinaire en pleine réorganisation : le défi de rester attractif en vue de l’évolution d’un centre hospitalier vétérinaire à Marseille \n06/10/2023 – 17h – VETAGRO SUP\, Salle Chauveau \n  \nBESSON Eloïse \nTITRE DE LA THESE :\nLe porc comme modèle pré-clinique immunologique. L’évaluation du potentiel immunologique dans le sepsis \n06/10/2023 – 18h – VETAGRO SUP\, Amphi 1 Froget \n  \nBRUNNER Florine \nTITRE DE LA THESE :\nLa règlementation de l’Union Européenne pour la lutte contre les salmonelles en élevage de poules pondeuses : enquête de terrain sur les modalités d’application\, les enjeux de santé publique et leur perception par différents acteurs de la filière en France et en Allemagne \n06/10/2023 – 18h – VETAGRO SUP\, Salle Chauveau \n  \nBERTHEZENE Diane \nTITRE DE LA THESE :\nÉducation thérapeutique destinée aux propriétaires de chien atteint de maladie valvulaire dégénérative mitrale et de chats atteints de cardiomyopathie hypertrophique \n12/10/2023 – 15h – VETAGRO SUP\, Amphi 1 Froget \n  \nVINCART Aurélien \nTITRE DE LA THESE :\nComparaison biomécanique de deux systèmes de fixation d’un ligament artificiel intra-articulaire dans le traitement du ligament croisé crânial chez le chien \n12/10/2023 – 16h – VETAGRO SUP\, Amphi 1 Froget \n  \nCREVOISIER Anne-Sophie \nTITRE DE LA THESE :\nÉpidémiologie et prévalence de l’instabilité en rotation du grasset chez le chien lors de rupture du ligament croisé crânial : étude rétrospective chez 162 cas \n12/10/2023 – 17h – VETAGRO SUP\, Amphi 1 Froget \n  \nGAGNAIRE Zoé \nTITRE DE LA THESE :\nImpact d’une maladie chronique d’un chien ou d’un chat sur la qualité de vie de son propriétaire \n13/10/2023 – 14h – VETAGRO SUP\, Salle Chauveau \n  \nKESSAL Karine \nTITRE DE LA THESE :\nEnquête qualitative sur l’identité professionnelle vétérinaire : une réconciliation intergénérationelle possible ? \n13/10/2023 – 14h – VETAGRO SUP\, Amphi 3 \n  \nCHABÉ Cloé \nTITRE DE LA THESE :\nLes affections de l’oesophage chez le chien : étude rétrospective des cas vus au CHUVAC de VetAgro Sup de 2015 à 2022 \n13/10/2023 – 15h – VETAGRO SUP\, Amphi 3 \n  \nDOUET Alexis \nTITRE DE LA THESE :\nMise au point et valorisation d’un modèle de simulation de l’appareil génital mâle ovin \n13/10/2023 – 15h – VETAGRO SUP\, Salle Chauveau \n  \nGARCIN Remy \nTITRE DE LA THESE :\nLa responsabilité sociétale des entreprises de soins vétérinaires : pratiques et modalités d’appropriation \n13/10/2023 – 15h – VETAGRO SUP\, Amphi 2 \n  \nAMIEL Léa \nTITRE DE LA THESE :\nRupture du tendon prépublien chez la jument au cours de la gestation : étude bibliographique et étude rétrospective des facteurs de risque\, du poulinage et du post poulinage (30 cas) \n13/10/2023 – 16h – VETAGRO SUP\, Amphi 3 \n  \nPERRODIN Pauline \nTITRE DE LA THESE :\nCréation d’un modèle de simulation pour l’apprentissage de la césarienne chez la vache \n13/10/2023 – 16h – VETAGRO SUP\, Salle Chauveau \n  \nGIULI Constant \nTITRE DE LA THESE :\nContribution à l’évaluation de l’exposition des bovins au virus de la fièvre hémorragique de Crimée-Congo en France \n13/10/2023 – 17h – VETAGRO SUP\, Salle Chauveau \n  \nMARRA Clélia \nTITRE DE LA THESE :\nAliments industriels physiologiques pour chiens et chats : analyse du crédit accordé aux informations fournies par le fabricant et à l’équilibre global de l’aliment\, grâce à l’élaboration d’une grille d’évaluation de la créance \n13/10/2023 – 17h – VETAGRO SUP\, Amphi 3 \n  \nAMAT Margaux \nTITRE DE LA THESE :\nElectrophorèse des protéines sériques suivies d’une immunofixation\, un outil diagnostic pour les maladies inflammatoires digestives chroniques du chat ? \n13/10/2023 – 18h – VETAGRO SUP\, Salle Chauveau \n  \nMAITRET Nicolas \nTITRE DE LA THESE :\nLe secourisme opérationnel des chiens des forces : état des lieux de la cynotechnie et impériosité de nouvelles formations du service de santé des armées \n13/10/2023 – 18h – VETAGRO SUP\, Amphi 3
URL:https://www.vetagro-sup.fr/evenement/soutenances-de-theses-octobre-doctorat-veterinaire/
ATTACH;FMTTYPE=image/jpeg:https://www.vetagro-sup.fr/wp-content/uploads/2022/07/soutenance_these-scaled.jpg
END:VEVENT
BEGIN:VEVENT
DTSTART;VALUE=DATE:20231003
DTEND;VALUE=DATE:20231007
DTSTAMP:20260420T135450
CREATED:20221223T131354Z
LAST-MODIFIED:20221223T131420Z
UID:49416-1696291200-1696636799@www.vetagro-sup.fr
SUMMARY:Sommet de l'élevage 2023
DESCRIPTION:VetAgro Sup participe à la 32ème édition du Sommet de l’Élevage qui se déroulera du 4 au 7 octobre 2022\, à la Grande Halle d’Auvergne à Cournon-d’Auvergne. A la croisée des chemins des productions animales et des attentes sociétales\, VetAgro Sup est la seule structure française à former à la fois des ingénieurs\, des vétérinaires et des inspecteurs de santé publique vétérinaire. Le Sommet de l’Elevage est ainsi pour l’établissement un évènement incontournable durant lequel personnels et étudiants sont mobilisés. \nProgramme à venir
URL:https://www.vetagro-sup.fr/evenement/sommet-de-lelevage-2023/
LOCATION:Grande Halle d’Auvergne\, Plaine de sarliève\, Cournon d'Auvergne\, 63808\, France
CATEGORIES:Salon
ATTACH;FMTTYPE=image/png:https://www.vetagro-sup.fr/wp-content/uploads/2022/12/SE2023.png
END:VEVENT
BEGIN:VEVENT
DTSTART;TZID=Europe/Paris:20231003T080000
DTEND;TZID=Europe/Paris:20231006T170000
DTSTAMP:20260420T135450
CREATED:20230925T114358Z
LAST-MODIFIED:20230925T114358Z
UID:52361-1696320000-1696611600@www.vetagro-sup.fr
SUMMARY:Sommet Elevage
DESCRIPTION:Quatre conférences thématiques pour les professionnels\, plus de 200 étudiants mobilisés sur une semaine\, le Sommet de l’Elevage est un évènement incontournable pour les personnels et étudiants de VetAgro Sup qui participent à ce salon emblématique. Seul établissement en France à former à la fois des ingénieurs agronomes\, des vétérinaires et des inspecteurs de santé publique vétérinaire\, VetAgro Sup vous invite à venir découvrir ses offres de formation et son expertise du 3 au 6 octobre 2023\, à la Grande Halle d’Auvergne à Cournon-d’Auvergne.  \nSur un stand entièrement relooké\, venez découvrir notre panel de formations et rencontrer les étudiants et les professionnels de l’établissement. Durant toute la durée du salon\, retrouvez-nous sur le stand F180 – Hall 1. \n———— \nAu programme :\n \nMardi 3 octobre 2023 : Conférence « Éleveurs\, vétérinaires et collectivités : des acteurs au service des territoires » \n9h-12h // salle 1AB \nLe maintien d’un maillage vétérinaire au service de l’élevage et des territoires est un enjeu majeur pour lequel l’ensemble des acteurs s’est mobilisé depuis plusieurs mois. Cette table-ronde est l’occasion de présenter le fruit des travaux engagés dans différentes régions en tenant compte des spécificités de chaque territoire. Elle sera également l’occasion d’explorer les perspectives apportées par ces projets en particulier en impulsant une rénovation du réseau des acteurs (état\, collectivités\, éleveurs et vétérinaires). \n  \nMercredi 4 octobre 2023 : Conférence « 25%*… qui sont-elles ? La place des femmes en agriculture » \n10h – 12h // salle mezzanine \n* 25% des chefs d’exploitation sont des femmes en Auvergne-Rhône-Alpes. \nEnseignement\, recherche et production agricole seront réunis autour d’une table ronde pour croiser les points de vue sur la place des femmes en agriculture. \nHommes et femmes\, nous sommes toutes et tous concernés.es au quotidien par ces questions. Venez partagez vos questions\, expériences à cette occasion ! \n  \nJeudi 5 octobre 2023 : Conférence « One Welfare : Comment concilier bien-être animal et agroécologie ? » \n9h – 12h // salle mezzanine \nLes pratiques d’élevage sont de plus en plus la cible de critiques\, que ce soit au regard du bien-être des animaux ou des effets jugés délétères sur l’environnement. Face à ces attentes sociétales croissantes et à l’urgence climatique\, quelles sont les pratiques d’élevage plus vertueuses\, conciliant à la fois bien-être des animaux et santé environnementale ? Au travers de témoignages d’éleveurs et de paroles d’experts et de scientifiques\, venez découvrir des pistes d’actions possibles ! \n  \nVendredi 6 octobre 2023 : Conférence « Comprendre et agir sur les crises sanitaires et écologiques avec la fresque des santés humaine\, animale et environnementale » \n9h-12h // salle 1AB \nLa crise Covid-19 a révélé les nouvelles interactions entre des virus émergents\, des antibiorésistances\, et d’autres déterminants comme les déplacements des populations\, l’urbanisation\, l’alimentation\, la déforestation\, la nutrition et la pollution à différentes échelles (individuelle à internationale). La Fresque One Health est l’outil incontournable pour mieux comprendre les liens complexes entre notre santé\, celle des animaux et des écosystèmes\, et mieux agir afin de réduire les impacts environnementaux et sociaux de nos activités. Ce jeu collaboratif\, créé par VetAgro Sup\, en apportant des connaissances en sciences du vivant\, ainsi qu’en sciences humaines et sociales\, sensibilise à la transversalité des sujets pour prendre conscience de l’impérieuse nécessité de préserver les écosystèmes. Vous pourrez participer en jouant\, en créant et en échangeant avec d’autres personnes lors de cet atelier débat. \n 
URL:https://www.vetagro-sup.fr/evenement/sommet-elevage/
LOCATION:Grande Halle d’Auvergne\, Plaine de sarliève\, Cournon d'Auvergne\, 63808\, France
CATEGORIES:Salon
ATTACH;FMTTYPE=image/jpeg:https://www.vetagro-sup.fr/wp-content/uploads/2023/09/Post-1080-1080.jpg
END:VEVENT
BEGIN:VEVENT
DTSTART;TZID=Europe/Paris:20231006T130000
DTEND;TZID=Europe/Paris:20231006T160000
DTSTAMP:20260420T135450
CREATED:20230502T124549Z
LAST-MODIFIED:20230630T071555Z
UID:50971-1696597200-1696608000@www.vetagro-sup.fr
SUMMARY:Fête de la science - Fresque One Health
DESCRIPTION:MODALITES\nA partir de 18 ans \n1 personne = 1 inscription \nLes groupes sont limités à 10 personnes par Fresque\, 2 Fresques seront réalisées en parallèle. \nDe 13h à 16h sur le campus vétérinaire de VetAgro Sup\, 1 avenue Bourgelat\, 69280 Marcy l’Etoile (salle Chauveau et son annexe). \nEN CAS D’ANNULATION\, merci de prévenir le service communication le plus tôt possible à l’adresse : communication@vetagro-sup.fr  \n			\n						Inscription groupe 1 (10 pers.)\n					\n			\n						Inscription groupe 2 (10 pers.)\n					 \nLa Fresque One Health est l’outil clé pour mieux comprendre les liens entre notre santé\, celle des animaux et des écosystèmes et mieux agir afin de réduire les impacts environnementaux et sociaux de nos activités. Dans le cadre de la fête de la science\, VetAgro Sup vous propose de participer gratuitement à ce jeu collaboratif ! \nhttps://www.youtube.com/watch?v=NEkD5Pn2SdM
URL:https://www.vetagro-sup.fr/evenement/fete-de-la-science-fresque-one-health/
LOCATION:VetAgro Sup – campus vétérinaire\, 1 avenue Bourgelat\, Marcy l'Etoile\, 69280
ATTACH;FMTTYPE=image/jpeg:https://www.vetagro-sup.fr/wp-content/uploads/2023/05/FresqueOH_VAS.jpg
END:VEVENT
END:VCALENDAR