BEGIN:VCALENDAR
VERSION:2.0
PRODID:-//VetAgro Sup - ECPv6.15.20//NONSGML v1.0//EN
CALSCALE:GREGORIAN
METHOD:PUBLISH
X-ORIGINAL-URL:https://www.vetagro-sup.fr
X-WR-CALDESC:Évènements pour VetAgro Sup
REFRESH-INTERVAL;VALUE=DURATION:PT1H
X-Robots-Tag:noindex
X-PUBLISHED-TTL:PT1H
BEGIN:VTIMEZONE
TZID:Europe/Paris
BEGIN:DAYLIGHT
TZOFFSETFROM:+0100
TZOFFSETTO:+0200
TZNAME:CEST
DTSTART:20220327T010000
END:DAYLIGHT
BEGIN:STANDARD
TZOFFSETFROM:+0200
TZOFFSETTO:+0100
TZNAME:CET
DTSTART:20221030T010000
END:STANDARD
BEGIN:DAYLIGHT
TZOFFSETFROM:+0100
TZOFFSETTO:+0200
TZNAME:CEST
DTSTART:20230326T010000
END:DAYLIGHT
BEGIN:STANDARD
TZOFFSETFROM:+0200
TZOFFSETTO:+0100
TZNAME:CET
DTSTART:20231029T010000
END:STANDARD
BEGIN:DAYLIGHT
TZOFFSETFROM:+0100
TZOFFSETTO:+0200
TZNAME:CEST
DTSTART:20240331T010000
END:DAYLIGHT
BEGIN:STANDARD
TZOFFSETFROM:+0200
TZOFFSETTO:+0100
TZNAME:CET
DTSTART:20241027T010000
END:STANDARD
END:VTIMEZONE
BEGIN:VEVENT
DTSTART;VALUE=DATE:20230826
DTEND;VALUE=DATE:20230902
DTSTAMP:20260420T154020
CREATED:20221223T130614Z
LAST-MODIFIED:20230704T124100Z
UID:49400-1693008000-1693612799@www.vetagro-sup.fr
SUMMARY:EAAP + WAAP + Interbull Congress 2023
DESCRIPTION:On behalf of the French Organising Committee\, we are very delighted to invite you to attend the Joint International Congress on Animal Science co-organised by the European Federation of Animal Science (EAAP)\, the World Association for Animal production (WAAP) and Interbull to be held in Lyon\, the capital of the Auvergne-Rhône-Alpes French region\, from August 26th to September 1st\, 2023. \nThe general topic of this Congress will be “Climate change\, biodiversity and global sustainability of animal production”. Different sessions will be jointly organised between the EAAP\, WAAP\, Interbull and also other partners to cover various areas of knowledge related to animal science\, such as genetics\, nutrition\, physiology\, animal health and welfare. \n			\n						Preliminary Congress Programme\n					\n			\n						Rates & Registration online\n					\n			\n						Sponsor the event\n					 \nProgramme VetAgro Sup\n30/08/2023 \nFarmpédia: How to improve the global acceptability of livestock systems with communication  \nAnne-Laure THADEE \nFrench Committees\nPresidentJean-François Hocquette (INRAE\, AFZ) \nLocal organising CommitteeJean-François Hocquette (INRAE\, AFZ)Adeline Dubost (INRAE)Sabrina Gasser (INRAE)Valérie Heuzé (AFZ)Jérôme Normand (IDELE)Emmanuelle Caramelle-Holtz (IDELE)Charlotte Chêne (VetAgro Sup)Karima Latti (ISARA)Denis Bastianelli (CIRAD) \nScientific Committees\nGlobal committeePatrick Chapoutot\, Jean-Louis Peyraud\, Rene Baumont\, Sabrina Gasser\, Philippe Chemineau\, Emmanuelle Gilot-Fromont\, Fabienne Blanc\, Karine Chalvet-Monfray\, Marie-Pierre Ellies\, Latifa Najar\, Denis Bastianelli \nPrecision Livestock Farming: Nathalie Hostiou\, Amélie Fischer \nGenetics: Laurent Journaux\, Jean-Pierre Bidanel \nNutrition: Latifa Najar\, Jaap Van Milgen \nHealth and Welfare: Christian Ducrot\, Alice de Boyer des Roches \nAnimal Physiology: Isabelle Louveau\, Xavier Druart \nLivestock Farming Systems: Vincent Thenard\, Marie-Odile Nozieres-Petit \nCattle Production: René Baumont\, Christophe Denoyelle \nSheep and Goat Production: Jérémie Jost \nPig Production: Ludovic Brossard\, Christine Roguet \nHorse Production: Marion Cressent\, Léa Lansade \nInsects: Franck Pierre\, Anna Zaidman-Rémy
URL:https://www.vetagro-sup.fr/evenement/eaap-waap-interbull-congress-2023/
LOCATION:Centre de Congrès de Lyon\, 50 Quai Charles de Gaulle\, Lyon\, Rhône\, 69006\, France
CATEGORIES:Congrès
ATTACH;FMTTYPE=image/png:https://www.vetagro-sup.fr/wp-content/uploads/2022/12/waap_eaap.png
END:VEVENT
BEGIN:VEVENT
DTSTART;TZID=Europe/Paris:20230901T080000
DTEND;TZID=Europe/Paris:20230930T170000
DTSTAMP:20260420T154020
CREATED:20230828T151840Z
LAST-MODIFIED:20231002T102018Z
UID:52142-1693555200-1696093200@www.vetagro-sup.fr
SUMMARY:Soutenances de thèses de doctorat vétérinaire
DESCRIPTION:CHARVIN Maxime \nTITRE DE LA THESE :Conséquences des différentes techniques de pâturage sur les performances et la santé des bovins \n07/09/2023 – 14h – VETAGRO SUP\, Amphi 1 Froget \n  \nMIGNON Léa \nTITRE DE LA THESE :Hyperthyroïdie et système cardiovasculaire : synthèse bibliographique et étude rétrospective \n07/09/2023 – 15h – VETAGRO SUP\, Amphi 1 Froget \n  \nCOSTES Manon \nTITRE DE LA THESE :Apport de l’imagerie pour une meilleure caractérisation des lésions cérébrales de l’AVC comme méthode de raffinement selon le principe des 3R : application dans un modèle murin d’occlusion de l’artère cérébrale moyenne \n07/09/2023 – 18h – VETAGRO SUP\, Amphi 1 Froget \n  \nBOISDON Antoine \nTITRE DE LA THESE :Evolution des méthodes de stérilisation chirurgicale chez la vache laitière\, techniques et moyens pour concilier impératifs de bien-être et minoration des risques per et post-opératoires \n08/09/2023 – 16h – VETAGRO SUP\, Amphi 1 Froget \n  \nCAMINADE Tristan \nTITRE DE LA THESE :Guide pratique des nouveaux animaux de loisirs (NAL) : construction d’un site internet de fiches conseils propriétaire \n08/09/2023 – 17h – VETAGRO SUP\, Amphi 1 Froget \n  \nKLEIN Césarine \nTITRE DE LA THESE :Utilisation d’un anticorps anti-ERG dans le diagnostic histologique des tumeurs vasculaires spléniques chez le chien : application aux tumeurs à cellules fusiformes \n15/09/2023 – 16h – VETAGRO SUP\, Amphi 1 Froget \n  \nKARAR Sahra \nTITRE DE LA THESE :Développement d’un pupillomètre pour mesurer la douleur et la nociception chez le cheval \n15/09/2023 – 17h – VETAGRO SUP\, Amphi 1 Froget \n  \nBOUQUET Lola \nTITRE DE LA THESE :Initiation et sensibilisation à la Responsabilité Sociétale des Entreprises au sein d’un réseau à capital exclusivement vétérinaire : enjeux\, outils et opportunités \n22/09/2023 – 15h – VETAGRO SUP\, Amphi 1 Froget \n  \nEXBRAYAT Valentin \nTITRE DE LA THESE :Création d’un poste de manager en clinique vétérinaire : besoins\, enjeux\, obstacles \n22/09/2023 – 16h – VETAGRO SUP\, Amphi 1 Froget \n  \nBLONDEAU Guillaume \nTITRE DE LA THESE :Le comptage cellulaire différencié\, état des lieux et utilisation dans la gestion des mammites subcliniques \n22/09/2023 – 17h – VETAGRO SUP\, Amphi 1 Froget \n  \nHERAUD Elsa \nTITRE DE LA THESE :Etat des connaissances sur les sarcoïdes des équidés : étude bibliographique et étude rétrospective de cas présentés à la Clinéquine du campus vétérinaire de Lyon de VetAgro sup \n29/09/2023 – 14h – VETAGRO SUP\, Salle Chauveau \n  \nGLAZIOU Héloïse \nTITRE DE LA THESE :Physiologie et pathologie cutanées des chats de races à poils modifiés : Sphynx\, Devon Rex et Cornish Rex \n29/09/2023 – 15h – VETAGRO SUP\, Salle Chauveau \n  \nDUCHENE Mickaël \nTITRE DE LA THESE :Première étape de la contractualisation entre vétérinaires et éleveurs bovins laitier : l’étude de marché \n29/09/2023 – 16h – VETAGRO SUP\, Salle Chauveau \n  \nROUQUIER Anais \nTITRE DE LA THESE :Étude du système d’élevage et du sexe sur le gain moyen quotidien en race Aubrac \n29/09/2023 – 17h – VETAGRO SUP\, Salle Chauveau
URL:https://www.vetagro-sup.fr/evenement/soutenances-de-theses-de-doctorat-veterinaire/
LOCATION:Amphi 1 Forget VetAgro Sup
CATEGORIES:Conference
ATTACH;FMTTYPE=image/jpeg:https://www.vetagro-sup.fr/wp-content/uploads/2022/05/soutenance_these-2-scaled.jpg
END:VEVENT
END:VCALENDAR