BEGIN:VCALENDAR
VERSION:2.0
PRODID:-//VetAgro Sup - ECPv6.15.20//NONSGML v1.0//EN
CALSCALE:GREGORIAN
METHOD:PUBLISH
X-ORIGINAL-URL:https://www.vetagro-sup.fr
X-WR-CALDESC:Évènements pour VetAgro Sup
REFRESH-INTERVAL;VALUE=DURATION:PT1H
X-Robots-Tag:noindex
X-PUBLISHED-TTL:PT1H
BEGIN:VTIMEZONE
TZID:Europe/Paris
BEGIN:DAYLIGHT
TZOFFSETFROM:+0100
TZOFFSETTO:+0200
TZNAME:CEST
DTSTART:20220327T010000
END:DAYLIGHT
BEGIN:STANDARD
TZOFFSETFROM:+0200
TZOFFSETTO:+0100
TZNAME:CET
DTSTART:20221030T010000
END:STANDARD
BEGIN:DAYLIGHT
TZOFFSETFROM:+0100
TZOFFSETTO:+0200
TZNAME:CEST
DTSTART:20230326T010000
END:DAYLIGHT
BEGIN:STANDARD
TZOFFSETFROM:+0200
TZOFFSETTO:+0100
TZNAME:CET
DTSTART:20231029T010000
END:STANDARD
BEGIN:DAYLIGHT
TZOFFSETFROM:+0100
TZOFFSETTO:+0200
TZNAME:CEST
DTSTART:20240331T010000
END:DAYLIGHT
BEGIN:STANDARD
TZOFFSETFROM:+0200
TZOFFSETTO:+0100
TZNAME:CET
DTSTART:20241027T010000
END:STANDARD
END:VTIMEZONE
BEGIN:VEVENT
DTSTART;TZID=Europe/Paris:20230602T133000
DTEND;TZID=Europe/Paris:20230602T170000
DTSTAMP:20260420T203139
CREATED:20230531T114537Z
LAST-MODIFIED:20230531T115332Z
UID:51318-1685712600-1685725200@www.vetagro-sup.fr
SUMMARY:Conférence EP Perception et Enjeux Sociétaux des Produits Animaux / INRAE
DESCRIPTION:Conférence ouverte aux publics\, proposée dans le cadre de l’EP PESPA (Enseignement personnalisé « Perception et Enjeux Sociétaux des Produits Animaux »).  \nIntervenants\n\nPierre Sylvain Mirade\, Directeur de recherche à l’INRAE\nMaïa Meurillon\, Chargé de Recherche à l’INRAE\n\nAu programme\n\n13h30/15h : Qualités sanitaires de la viande\n15h/17h : Affinage de fromages vu par un physicien\n\n\nJe m’inscris\n \nLieu\nAmphi 3\, campus vétérinaire de VetAgro Sup
URL:https://www.vetagro-sup.fr/evenement/conference-ep-perception-et-enjeux-societaux-des-produits-animaux-inrae/
LOCATION:VetAgro Sup – campus vétérinaire\, 1 avenue Bourgelat\, Marcy l'Etoile\, 69280
ATTACH;FMTTYPE=image/jpeg:https://www.vetagro-sup.fr/wp-content/uploads/2022/03/vaches-Salers-estive_Sancy_ABelleil-5-scaled.jpg
END:VEVENT
END:VCALENDAR